{"text_format":"1","workbook":"xlsx","n_sheets":3,"sheets":["Sheet1","Sheet2","Sheet3"],"not_rendered":{"charts":0,"images":0,"macros":1,"external_links":0,"defined_names":0,"comments":0,"pivot_tables":0},"unopened":[],"bounds":{"document_bytes":16777216,"sheet_cells":100000,"rows_first":2000,"rows_last":500,"rows_between":2000,"halvings":0,"cell_chars":16384,"cell_head_chars":4096},"cells_cut":0,"cells_raw":0,"read":"whole","date_system":"1900"}

{"sheet":"Sheet1","index":0,"n_rows":197,"n_cols":4,"rows_kept":197,"cut":false,"hidden":false,"merged":[]}
["MMF",null,null,"PM Checks"]
[]
["\"X\""]
[]
["Undulator",17]
["Date:","2011-11-21"]
["Crew:","HI,MR"]
[]
["BUCK IN "]
["Far Value",0,"PM1 X1"]
["Near Value",0,"PM 4 X1"]
["1st Far",32]
["1st. Near",31.38]
["2nd. Far",28]
["2nd Near",30.213999999999999]
["Far Should Read",{"$f":"BuckIn(B10,B11,B12,B13,B14,B15)","v":31.124911785462242}]
["Near Should Read",31.124911785462242]
["LOS",31.124911785462242]
[]
["Undulator "]
[]
[]
["1)","2)","3)","4)"]
[36.610999999999997,36.616,36.613999999999997,36.613999999999997]
[1,1,1,1]
[{"$f":"SUM(A24:A25)","v":37.610999999999997},{"$f":"SUM(B24:B25)","v":37.616},{"$f":"SUM(C24:C25)","v":37.613999999999997},{"$f":"SUM(D24:D25)","v":37.613999999999997}]
[{"$f":"B18","v":31.124911785462242},{"$f":"B18","v":31.124911785462242},{"$f":"B18","v":31.124911785462242},{"$f":"B18","v":31.124911785462242}]
[{"$f":"SUM(A27-A26)","v":-6.4860882145377552},{"$f":"SUM(B27-B26)","v":-6.4910882145377578},{"$f":"SUM(C27-C26)","v":-6.4890882145377553},{"$f":"SUM(D27-D26)","v":-6.4890882145377553}]
[]
["5)","6)","7)","8)"]
[26.824000000000002,26.829000000000001,26.837,26.827999999999999]
[1,1,1,1]
[{"$f":"SUM(A31:A32)","v":27.824000000000002},{"$f":"SUM(B31:B32)","v":27.829000000000001},{"$f":"SUM(C31:C32)","v":27.837},{"$f":"SUM(D31:D32)","v":27.827999999999999}]
[{"$f":"B18","v":31.124911785462242},{"$f":"B18","v":31.124911785462242},{"$f":"B18","v":31.124911785462242},{"$f":"B18","v":31.124911785462242}]
[{"$f":"SUM(A34-A33)","v":3.3009117854622403},{"$f":"SUM(B34-B33)","v":3.2959117854622413},{"$f":"SUM(C34-C33)","v":3.2879117854622422},{"$f":"SUM(D34-D33)","v":3.2969117854622425}]
[]
[]
[null,"Reference","Block"]
[]
["A)","B)","C)","D)"]
[38.158999999999999,33.630000000000003,31.863,31.863]
[1,1,1,1]
[{"$f":"SUM(A41:A42)","v":39.158999999999999},{"$f":"SUM(B41:B42)","v":34.630000000000003},{"$f":"SUM(C41:C42)","v":32.863},{"$f":"SUM(D41:D42)","v":32.863}]
[{"$f":"B18","v":31.124911785462242},{"$f":"B18","v":31.124911785462242},{"$f":"B18","v":31.124911785462242},{"$f":"B18","v":31.124911785462242}]
[{"$f":"SUM(A44-A43)","v":-8.034088214537757},{"$f":"SUM(B44-B43)","v":-3.5050882145377606},{"$f":"SUM(C44-C43)","v":-1.7380882145377576},{"$f":"SUM(D44-D43)","v":-1.7380882145377576}]
[]
[]
[]
[]
[]
["MMF",null,null,"PM Checks"]
[]
["\"X\""]
[]
[{"$f":"B18","v":31.124911785462242},"LOS"]
["Undulator",{"$f":"B5","v":17}]
["Date:",{"$f":"B6","v":"2011-11-21"}]
["Crew:",{"$f":"B7","v":"HI,MR"}]
[]
[]
[null,"PM4"]
[]
["X1) Buck In","Y1)","Y2)"]
[null,34.722999999999999,34.725999999999999]
[null,1,1]
[null,{"$f":"SUM(B64:B65)","v":35.722999999999999},{"$f":"SUM(C64:C65)","v":35.725999999999999}]
[null,{"$f":"B18","v":31.124911785462242},{"$f":"B18","v":31.124911785462242}]
[0,{"$f":"SUM(B67-B66)","v":-4.5980882145377571},{"$f":"SUM(C67-C66)","v":-4.6010882145377572}]
[]
[]
[null,"PM3"]
[]
["X1)","Y1)","Y2)"]
[33.002000000000002,36.594999999999999,36.597999999999999]
[1,1,1]
[{"$f":"SUM(A74:A75)","v":34.002000000000002},{"$f":"SUM(B74:B75)","v":37.594999999999999},{"$f":"SUM(C74:C75)","v":37.597999999999999}]
[{"$f":"B18","v":31.124911785462242},{"$f":"B18","v":31.124911785462242},{"$f":"B18","v":31.124911785462242}]
[{"$f":"SUM(A77-A76)","v":-2.8770882145377605},{"$f":"SUM(B77-B76)","v":-6.470088214537757},{"$f":"SUM(C77-C76)","v":-6.4730882145377571}]
[]
[]
[null,"PM 2"]
["X1)","Y1)","Y2)"]
[33.003,36.603999999999999,36.603999999999999]
[1,1,1]
[{"$f":"SUM(A83:A84)","v":34.003},{"$f":"SUM(B83:B84)","v":37.603999999999999},{"$f":"SUM(C83:C84)","v":37.603999999999999}]
[{"$f":"B18","v":31.124911785462242},{"$f":"B18","v":31.124911785462242},{"$f":"B18","v":31.124911785462242}]
[{"$f":"SUM(A86-A85)","v":-2.8780882145377582},{"$f":"SUM(B86-B85)","v":-6.4790882145377573},{"$f":"SUM(C86-C85)","v":-6.4790882145377573}]
[]
[]
[null,"PM1"]
["X1) Buck In","Y1)","Y2)"]
[null,34.728000000000002,34.72]
[null,1,1]
[null,{"$f":"SUM(B92:B93)","v":35.728000000000002},{"$f":"SUM(C92:C93)","v":35.72}]
[null,{"$f":"B18","v":31.124911785462242},{"$f":"B18","v":31.124911785462242}]
[0,{"$f":"SUM(B95-B94)","v":-4.6030882145377596},{"$f":"SUM(C95-C94)","v":-4.595088214537757}]
[]
[]
[]
[]
["MMF",null,null,"PM Checks"]
[]
["\"Y\"",null,"PM4Y1","PM1Y1"]
[null,null,5.6669999999999998,5.6669999999999998]
[null,null,1,1]
["Undulator",{"$f":"B5","v":17},{"$f":"SUM(C104+C105)","v":6.6669999999999998},{"$f":"SUM(D104+D105)","v":6.6669999999999998}]
["Date:",{"$f":"B6","v":"2011-11-21"}]
["Crew:",{"$f":"B7","v":"HI,MR"}]
[null,null,"HI =",{"$f":"AVERAGE(C106,D106)","v":6.6669999999999998}]
[]
["PM4",null,"PM3"]
[]
["Y1)","X1)","Y2)","X1"]
[{"$f":"C104","v":5.6669999999999998},9.2720000000000002,5.67,9.27]
[1,1,1,1]
[{"$f":"SUM(A114:A115)","v":6.6669999999999998},{"$f":"SUM(B114:B115)","v":10.272},{"$f":"SUM(C114:C115)","v":6.67},{"$f":"SUM(D114:D115)","v":10.27}]
[{"$f":"D109","v":6.6669999999999998},{"$f":"D109","v":6.6669999999999998},{"$f":"D109","v":6.6669999999999998},{"$f":"D109","v":6.6669999999999998}]
[{"$f":"SUM(A117-A116)","v":0},{"$f":"SUM(B117-B116)","v":-3.6050000000000004},{"$f":"SUM(C117-C116)","v":-3.0000000000001137E-3},{"$f":"SUM(D117-D116)","v":-3.6029999999999998}]
[]
[]
["PM2",null,"PM1"]
[]
["Y1)","X1)","Y1)","X1)"]
[5.6749999999999998,9.2729999999999997,{"$f":"D104","v":5.6669999999999998},9.2690000000000001]
[1,1,1,1]
[{"$f":"SUM(A124:A125)","v":6.6749999999999998},{"$f":"SUM(B124:B125)","v":10.273},{"$f":"SUM(C124:C125)","v":6.6669999999999998},{"$f":"SUM(D124:D125)","v":10.269}]
[{"$f":"D109","v":6.6669999999999998},{"$f":"D109","v":6.6669999999999998},{"$f":"D109","v":6.6669999999999998},{"$f":"D109","v":6.6669999999999998}]
[{"$f":"SUM(A127-A126)","v":-8.0000000000000071E-3},{"$f":"SUM(B127-B126)","v":-3.6059999999999999},{"$f":"SUM(C127-C126)","v":0},{"$f":"SUM(D127-D126)","v":-3.6020000000000003}]
[]
[]
[]
[]
[]
[]
["Top Of Gage Block",null,"Probe Location in (X)"]
[]
[11.069000000000001,null,-5.4640000000000004,"LOS"]
[{"$f":"D109","v":6.6669999999999998},null,4.4999999999999998E-2,"Mic To Plus Edge"]
[{"$f":"SUM(A138-A137)","v":-4.402000000000001},null,{"$f":"SUM(C137+C138)","v":-5.4190000000000005}]
[null,null,-3.9E-2]
[null,null,{"$f":"(C139+C140)","v":-5.4580000000000002},"Probe Location"]
[]
[]
[]
[]
[]
[]
[]
[]
[]
["MMF",null,null,"PM Checks"]
[]
["\"Y\""]
[]
["Undulator",{"$f":"B5","v":17}]
["Date:",{"$f":"B6","v":"2011-11-21"}]
["Crew:",{"$f":"B7","v":"HI,MR"}]
[]
[]
["HI =",{"$f":"D109","v":6.6669999999999998}]
[]
["Undulator"]
[]
["1)","2)","3)","4)"]
[2.1640000000000001,2.1859999999999999,2.1850000000000001,2.1760000000000002]
[1,1,1,1]
[{"$f":"SUM(A165:A166)","v":3.1640000000000001},{"$f":"SUM(B165:B166)","v":3.1859999999999999},{"$f":"SUM(C165:C166)","v":3.1850000000000001},{"$f":"SUM(D165:D166)","v":3.1760000000000002}]
[{"$f":"D109","v":6.6669999999999998},{"$f":"D109","v":6.6669999999999998},{"$f":"D109","v":6.6669999999999998},{"$f":"D109","v":6.6669999999999998}]
[{"$f":"SUM(A168-A167)","v":3.5029999999999997},{"$f":"SUM(B168-B167)","v":3.4809999999999999},{"$f":"SUM(C168-C167)","v":3.4819999999999998},{"$f":"SUM(D168-D167)","v":3.4909999999999997}]
[]
[]
["5)","6)","7)","8)"]
[9.266,9.27,9.2720000000000002,9.2759999999999998]
[1,1,1,1]
[{"$f":"SUM(A173+A174)","v":10.266},{"$f":"SUM(B173+B174)","v":10.27},{"$f":"SUM(C173+C174)","v":10.272},{"$f":"SUM(D173+D174)","v":10.276}]
[{"$f":"D109","v":6.6669999999999998},{"$f":"D109","v":6.6669999999999998},{"$f":"D109","v":6.6669999999999998},{"$f":"D109","v":6.6669999999999998}]
[{"$f":"SUM(A176-A175)","v":-3.5990000000000002},{"$f":"SUM(B176-B175)","v":-3.6029999999999998},{"$f":"SUM(C176-C175)","v":-3.6050000000000004},{"$f":"SUM(D176-D175)","v":-3.609}]
[]
[]
[]
["Reference Block"]
[]
["A)","B)","C)","D)"]
[5.8920000000000003,null,8.0510000000000002,11.134]
[1,null,1,1]
[{"$f":"SUM(A184+A185)","v":6.8920000000000003},null,{"$f":"SUM(C184+C185)","v":9.0510000000000002},{"$f":"SUM(D184+D185)","v":12.134}]
[{"$f":"D109","v":6.6669999999999998},null,{"$f":"D109","v":6.6669999999999998},{"$f":"D109","v":6.6669999999999998}]
[{"$f":"SUM(A187-A186)","v":-0.22500000000000053},0,{"$f":"SUM(C187-C186)","v":-2.3840000000000003},{"$f":"SUM(D187-D186)","v":-5.4670000000000005}]
[]
[]
["Flats"]
[]
["U/S",null,"D/S"]
["(+)","(-)","(+)","(-)"]
[4.9489999999999998,4.952,4.9530000000000003,4.9560000000000004]
[{"$f":"D109","v":6.6669999999999998},{"$f":"D109","v":6.6669999999999998},{"$f":"D109","v":6.6669999999999998},{"$f":"D109","v":6.6669999999999998}]
[{"$f":"SUM(A196-A195)","v":1.718},{"$f":"SUM(B196-B195)","v":1.7149999999999999},{"$f":"SUM(C196-C195)","v":1.7139999999999995},{"$f":"SUM(D196-D195)","v":1.7109999999999994}]

{"sheet":"Sheet2","index":1,"n_rows":42,"n_cols":8,"rows_kept":42,"cut":false,"hidden":false,"merged":[]}
[]
["Undulator"," ",{"$f":"Sheet1!B5","v":17}]
["Date"," ",{"$f":"Sheet1!B6","v":"2011-11-21"}]
["Crew"," ",{"$f":"Sheet1!B7","v":"HI,MR"}]
[]
[]
["Undulator Values"]
[]
["TB","Y (in)","Y (mm)",null,null,"TB","X (in)","X (mm)"]
[1,{"$f":"Sheet1!A169","v":3.5029999999999997},{"$f":"B10*25.4","v":88.976199999999992},null,null,5,{"$f":"Sheet1!A35","v":3.3009117854622403},{"$f":"G10*25.4","v":83.843159350740905}]
[2,{"$f":"Sheet1!B169","v":3.4809999999999999},{"$f":"B11*25.4","v":88.417399999999986},null,null,6,{"$f":"Sheet1!B35","v":3.2959117854622413},{"$f":"G11*25.4","v":83.716159350740924}]
[3,{"$f":"Sheet1!C169","v":3.4819999999999998},{"$f":"B12*25.4","v":88.442799999999991},null,null,7,{"$f":"Sheet1!C35","v":3.2879117854622422},{"$f":"G12*25.4","v":83.512959350740942}]
[4,{"$f":"Sheet1!D169","v":3.4909999999999997},{"$f":"B13*25.4","v":88.671399999999991},null,null,8,{"$f":"Sheet1!D35","v":3.2969117854622425},{"$f":"G13*25.4","v":83.741559350740957}]
[]
[]
["PM Values"]
[]
[null,null,"Upstream"," ","(PM 3)",null,"Checks"]
["TB","X (in)","Y (in)","X (mm)","Y (mm)",null,"X (mm)","Y (mm)"]
["Y2",{"$f":"Sheet1!C78","v":-6.4730882145377571},{"$f":"Sheet1!C118","v":-3.0000000000001137E-3},{"$f":"B20*25.4","v":-164.41644064925902},{"$f":"C20*25.4","v":-7.6200000000002877E-2},null,{"$f":"H10-D21","v":131.52120000000002},{"$f":"C10-E20","v":89.052399999999992}]
["X1",{"$f":"Sheet1!A78+1","v":-1.8770882145377605},{"$f":"Sheet1!D118","v":-3.6029999999999998},{"$f":"B21*25.4","v":-47.678040649259117},{"$f":"C21*25.4","v":-91.516199999999984}]
["Y1",{"$f":"Sheet1!B78","v":-6.470088214537757},null,{"$f":"B22*25.4","v":-164.34024064925902}]
[]
[null,null,"Downstream",null,"(PM 2)"," ","Checks"]
["TB","X (in)","Y (in)","X (mm)","Y (mm)",null,"X (mm)","Y (mm)"]
["Y1",{"$f":"Sheet1!B87","v":-6.4790882145377573},{"$f":"Sheet1!A128","v":-8.0000000000000071E-3},{"$f":"B26*25.4","v":-164.56884064925902},{"$f":"C26*25.4","v":-0.20320000000000016},null,{"$f":"H13-D27","v":131.44500000000002},{"$f":"C13-E26","v":88.874599999999987}]
["X1",{"$f":"Sheet1!A87+1","v":-1.8780882145377582},{"$f":"Sheet1!B128","v":-3.6059999999999999},{"$f":"B27*25.4","v":-47.703440649259058},{"$f":"C27*25.4","v":-91.592399999999998}]
["Y2",{"$f":"Sheet1!C87","v":-6.4790882145377573},"\\",{"$f":"B28*25.4","v":-164.56884064925902}]
[]
[]
[]
[]
[null,"Probe",null,null,null,"Flats"]
[]
[null,"X (in)","X (mm)",null," ","Y(in)","Y(mm)"]
[null,{"$f":"Sheet1!C141","v":-5.4580000000000002},{"$f":"B36*25.4","v":-138.63319999999999},null,"US  +",{"$f":"Sheet1!A197","v":1.718},{"$f":"F36*25.4","v":43.6372}]
[null," ",null,null,"US   -",{"$f":"Sheet1!B197","v":1.7149999999999999},{"$f":"F37*25.4","v":43.560999999999993}]
[null,null,null,null,"DS  +",{"$f":"Sheet1!C197","v":1.7139999999999995},{"$f":"F38*25.4","v":43.535599999999988}]
[null,null,"Top of Gage Block",null,"DS   -",{"$f":"Sheet1!D197","v":1.7109999999999994},{"$f":"F39*25.4","v":43.459399999999981}]
[]
[null,"Y (in)","Y (mm)"]
[null,{"$f":"Sheet1!A139","v":-4.402000000000001},{"$f":"B42*25.4","v":-111.81080000000001}]

{"sheet":"Sheet3","index":2,"n_rows":52,"n_cols":9,"rows_kept":52,"cut":false,"hidden":false,"merged":[]}
[]
["Undulator"," ",13]
["Date"," ",{"$f":"Sheet1!B6","v":"2011-11-21"}]
["Crew"," ","MR,BR"]
[]
[]
[null,null,"Undulator Values"]
[]
["TB","X (in)","Y (in)","X (mm)","Y (mm)",null,"Probe"]
[1,{"$f":"Sheet1!A28","v":-6.4860882145377552},{"$f":"Sheet1!A169","v":3.5029999999999997},{"$f":"SUM(B10*25.4)","v":-164.74664064925898},{"$f":"SUM(C10*25.4)","v":88.976199999999992}]
[2,{"$f":"Sheet1!B28","v":-6.4910882145377578},{"$f":"Sheet1!B169","v":3.4809999999999999},{"$f":"SUM(B11*25.4)","v":-164.87364064925904},{"$f":"SUM(C11*25.4)","v":88.417399999999986},null,"X (in)","X (mm)"]
[3,{"$f":"Sheet1!C28","v":-6.4890882145377553},{"$f":"Sheet1!C169","v":3.4819999999999998},-164.82284064925898,88.442799999999991,null,{"$f":"Sheet1!C141","v":-5.4580000000000002},{"$f":"SUM(G12*25.4)","v":-138.63319999999999}]
[4,{"$f":"Sheet1!D28","v":-6.4890882145377553},{"$f":"Sheet1!D169","v":3.4909999999999997},-164.82284064925898,88.671399999999991]
[5,{"$f":"Sheet1!A35","v":3.3009117854622403},{"$f":"Sheet1!A177","v":-3.5990000000000002},83.843159350740905,-91.414599999999993]
[6,{"$f":"Sheet1!B35","v":3.2959117854622413},{"$f":"Sheet1!B177","v":-3.6029999999999998},83.716159350740924,-91.516199999999984,null,"Top of Gage Block"]
[7,{"$f":"Sheet1!C35","v":3.2879117854622422},{"$f":"Sheet1!C177","v":-3.6050000000000004},83.512959350740942,-91.567000000000007]
[8,{"$f":"Sheet1!D35","v":3.2969117854622425},{"$f":"Sheet1!D177","v":-3.609},83.741559350740957,-91.668599999999998,null,"Y (in)","Y (mm)"]
[null,null,null,null,null,null,{"$f":"Sheet1!A139","v":-4.402000000000001},{"$f":"SUM(G18*25.4)","v":-111.81080000000001}]
[null,null,"Undulator PM Values"]
[]
[null,null,"Upstream"," ","(PM 3)"]
["TB","X (in)","Y (in)","X (mm)","Y (mm)",null,"Flats"]
["Y2",{"$f":"Sheet1!A78","v":-2.8770882145377605},{"$f":"Sheet1!C118","v":-3.0000000000001137E-3},{"$f":"SUM(B23*25.4)","v":-73.078040649259108},{"$f":"SUM(C23*25.4)","v":-7.6200000000002877E-2}]
["X1",{"$f":"Sheet1!A78","v":-2.8770882145377605},{"$f":"Sheet1!D118","v":-3.6029999999999998},{"$f":"SUM(B24*25.4)","v":-73.078040649259108},{"$f":"SUM(C24*25.4)","v":-91.516199999999984},null," ","Y(in)","Y(mm)"]
["Y1",{"$f":"Sheet1!B78","v":-6.470088214537757},null,{"$f":"SUM(B25*25.4)","v":-164.34024064925902},null,null,"US  +",{"$f":"Sheet1!A197","v":1.718},{"$f":"SUM(H25*25.4)","v":43.6372}]
[null,null,null,null,null,null,"US   -",{"$f":"Sheet1!B197","v":1.7149999999999999},{"$f":"SUM(H26*25.4)","v":43.560999999999993}]
[null,null,"Downstream",null,"(PM 2)",null,"DS  +",{"$f":"Sheet1!C197","v":1.7139999999999995},{"$f":"SUM(H27*25.4)","v":43.535599999999988}]
["TB","X (in)","Y (in)","X (mm)","Y (mm)",null,"DS   -",{"$f":"Sheet1!D197","v":1.7109999999999994},{"$f":"SUM(H28*25.4)","v":43.459399999999981}]
["Y1",{"$f":"Sheet1!B87","v":-6.4790882145377573},{"$f":"Sheet1!A128","v":-8.0000000000000071E-3},{"$f":"SUM(B29*25.4)","v":-164.56884064925902},{"$f":"SUM(C29*25.4)","v":-0.20320000000000016}]
["X1",{"$f":"Sheet1!A87","v":-2.8780882145377582},{"$f":"Sheet1!B128","v":-3.6059999999999999},{"$f":"SUM(B30*25.4)","v":-73.103440649259056},{"$f":"SUM(C30*25.4)","v":-91.592399999999998}]
["Y2",{"$f":"Sheet1!C87","v":-6.4790882145377573},null,{"$f":"SUM(B31*25.4)","v":-164.56884064925902}]
[]
[null,null,"Ref. PM Values"]
[]
[null,null,"Upstream"," ","(PM 4)"]
["TB","X (in)","Y (in)","X (mm)","Y (mm)"]
["Y1",{"$f":"Sheet1!B68","v":-4.5980882145377571},{"$f":"Sheet1!A118","v":0},{"$f":"SUM(B37*25.4)","v":-116.79144064925902},{"$f":"SUM(C37*25.4)","v":0},null,null," "," "]
["X1",0,{"$f":"Sheet1!B118","v":-3.6050000000000004},0,{"$f":"SUM(C38*25.4)","v":-91.567000000000007}]
["Y2",{"$f":"Sheet1!C68","v":-4.6010882145377572},null,{"$f":"SUM(B39*25.4)","v":-116.86764064925903}]
[]
[null,null,"Downstream",null,"(PM 1)"]
["TB","X (in)","Y (in)","X (mm)","Y (mm)"]
["Y1",{"$f":"Sheet1!B96","v":-4.6030882145377596},{"$f":"Sheet1!C128","v":0},{"$f":"SUM(B43*25.4)","v":-116.91844064925908},{"$f":"SUM(C43*25.4)","v":0}]
["X1",0,{"$f":"Sheet1!D128","v":-3.6020000000000003},0,{"$f":"SUM(C44*25.4)","v":-91.490800000000007}]
["Y2",{"$f":"Sheet1!C96","v":-4.595088214537757},null,{"$f":"SUM(B45*25.4)","v":-116.71524064925902}]
[]
[null,null,"Ref. Block"]
["TB","X (in)","Y (in)","X (mm)","Y (mm)"]
["A",{"$f":"Sheet1!A45","v":-8.034088214537757},{"$f":"Sheet1!A188","v":-0.22500000000000053},{"$f":"SUM(B49*25.4)","v":-204.06584064925903},{"$f":"SUM(C49*25.4)","v":-5.7150000000000132}]
["B",{"$f":"Sheet1!B45","v":-3.5050882145377606},null,{"$f":"SUM(B50*25.4)","v":-89.029240649259108}]
["C",{"$f":"Sheet1!C45","v":-1.7380882145377576},{"$f":"Sheet1!C188","v":-2.3840000000000003},{"$f":"SUM(B51*25.4)","v":-44.147440649259039},{"$f":"SUM(C51*25.4)","v":-60.553600000000003}]
["D",{"$f":"Sheet1!D45","v":-1.7380882145377576},{"$f":"Sheet1!D188","v":-5.4670000000000005},{"$f":"SUM(B52*25.4)","v":-44.147440649259039},{"$f":"SUM(C52*25.4)","v":-138.86180000000002}]