{"text_format":"1","workbook":"xlsx","n_sheets":3,"sheets":["Sheet1","Sheet2","Sheet3"],"not_rendered":{"charts":0,"images":0,"macros":1,"external_links":0,"defined_names":0,"comments":0,"pivot_tables":0},"unopened":[],"bounds":{"document_bytes":16777216,"sheet_cells":100000,"rows_first":2000,"rows_last":500,"rows_between":2000,"halvings":0,"cell_chars":16384,"cell_head_chars":4096},"cells_cut":0,"cells_raw":0,"read":"whole","date_system":"1900"}

{"sheet":"Sheet1","index":0,"n_rows":197,"n_cols":4,"rows_kept":197,"cut":false,"hidden":false,"merged":[]}
["MMF",null,null,"PM Checks"]
[]
["\"X\""]
[]
["Undulator","UN 6"]
["Date:","2009-10-02"]
["Crew:","LG, JM, BR"]
[]
["BUCK IN "]
["Far Value",0,"PM1 X1"]
["Near Value",0,"PM 4 X1"]
["1st Far",29]
["1st. Near",27.850999999999999]
["2nd. Far",27.850999999999999]
["2nd Near",27.850999999999999]
["Far Should Read",{"$f":"BuckIn(B10,B11,B12,B13,B14,B15)","v":27.850999999999999}]
["Near Should Read",27.850999999999999]
["LOS",27.850999999999999]
[]
["Undulator "]
[]
[]
["1)","2)","3)","4)"]
[32.335999999999999,32.332999999999998,32.332999999999998,32.33]
[1,1,1,1]
[{"$f":"SUM(A24:A25)","v":33.335999999999999},{"$f":"SUM(B24:B25)","v":33.332999999999998},{"$f":"SUM(C24:C25)","v":33.332999999999998},{"$f":"SUM(D24:D25)","v":33.33}]
[{"$f":"B18","v":27.850999999999999},{"$f":"B18","v":27.850999999999999},{"$f":"B18","v":27.850999999999999},{"$f":"B18","v":27.850999999999999}]
[{"$f":"SUM(A27-A26)","v":-5.4849999999999994},{"$f":"SUM(B27-B26)","v":-5.4819999999999993},{"$f":"SUM(C27-C26)","v":-5.4819999999999993},{"$f":"SUM(D27-D26)","v":-5.4789999999999992}]
[]
["5)","6)","7)","8)"]
[22.552,22.547999999999998,22.547000000000001,22.547999999999998]
[1,1,1,1]
[{"$f":"SUM(A31:A32)","v":23.552},{"$f":"SUM(B31:B32)","v":23.547999999999998},{"$f":"SUM(C31:C32)","v":23.547000000000001},{"$f":"SUM(D31:D32)","v":23.547999999999998}]
[{"$f":"B18","v":27.850999999999999},{"$f":"B18","v":27.850999999999999},{"$f":"B18","v":27.850999999999999},{"$f":"B18","v":27.850999999999999}]
[{"$f":"SUM(A34-A33)","v":4.2989999999999995},{"$f":"SUM(B34-B33)","v":4.3030000000000008},{"$f":"SUM(C34-C33)","v":4.3039999999999985},{"$f":"SUM(D34-D33)","v":4.3030000000000008}]
[]
[]
[null,"Reference","Block"]
[]
["A)","B)","C)","D)"]
[33.884999999999998,29.35,27.593,27.593]
[1,1,1,1]
[{"$f":"SUM(A41:A42)","v":34.884999999999998},{"$f":"SUM(B41:B42)","v":30.35},{"$f":"SUM(C41:C42)","v":28.593},{"$f":"SUM(D41:D42)","v":28.593}]
[{"$f":"B18","v":27.850999999999999},{"$f":"B18","v":27.850999999999999},{"$f":"B18","v":27.850999999999999},{"$f":"B18","v":27.850999999999999}]
[{"$f":"SUM(A44-A43)","v":-7.0339999999999989},{"$f":"SUM(B44-B43)","v":-2.4990000000000023},{"$f":"SUM(C44-C43)","v":-0.74200000000000088},{"$f":"SUM(D44-D43)","v":-0.74200000000000088}]
[]
[]
[]
[]
[]
["MMF",null,null,"PM Checks"]
[]
["\"X\""]
[]
[{"$f":"B18","v":27.850999999999999},"LOS"]
["Undulator",{"$f":"B5","v":"UN 6"}]
["Date:",{"$f":"B6","v":"2009-10-02"}]
["Crew:",{"$f":"B7","v":"LG, JM, BR"}]
[]
[]
[null,"PM4"]
[]
["X1) Buck In","Y1)","Y2)"]
[null,30.45,30.454000000000001]
[null,1,1]
[null,{"$f":"SUM(B64:B65)","v":31.45},{"$f":"SUM(C64:C65)","v":31.454000000000001}]
[null,{"$f":"B18","v":27.850999999999999},{"$f":"B18","v":27.850999999999999}]
[0,{"$f":"SUM(B67-B66)","v":-3.5990000000000002},{"$f":"SUM(C67-C66)","v":-3.6030000000000015}]
[]
[]
[null,"PM3"]
[]
["X1)","Y1)","Y2)"]
[28.731000000000002,32.328000000000003,32.326999999999998]
[1,1,1]
[{"$f":"SUM(A74:A75)","v":29.731000000000002},{"$f":"SUM(B74:B75)","v":33.328000000000003},{"$f":"SUM(C74:C75)","v":33.326999999999998}]
[{"$f":"B18","v":27.850999999999999},{"$f":"B18","v":27.850999999999999},{"$f":"B18","v":27.850999999999999}]
[{"$f":"SUM(A77-A76)","v":-1.8800000000000026},{"$f":"SUM(B77-B76)","v":-5.4770000000000039},{"$f":"SUM(C77-C76)","v":-5.4759999999999991}]
[]
[]
[null,"PM 2"]
["X1)","Y1)","Y2)"]
[28.727,32.323999999999998,32.323]
[1,1,1]
[{"$f":"SUM(A83:A84)","v":29.727},{"$f":"SUM(B83:B84)","v":33.323999999999998},{"$f":"SUM(C83:C84)","v":33.323}]
[{"$f":"B18","v":27.850999999999999},{"$f":"B18","v":27.850999999999999},{"$f":"B18","v":27.850999999999999}]
[{"$f":"SUM(A86-A85)","v":-1.8760000000000012},{"$f":"SUM(B86-B85)","v":-5.472999999999999},{"$f":"SUM(C86-C85)","v":-5.4720000000000013}]
[]
[]
[null,"PM1"]
["X1) Buck In","Y1)","Y2)"]
[null,30.452000000000002,30.445]
[null,1,1]
[null,{"$f":"SUM(B92:B93)","v":31.452000000000002},{"$f":"SUM(C92:C93)","v":31.445}]
[null,{"$f":"B18","v":27.850999999999999},{"$f":"B18","v":27.850999999999999}]
[0,{"$f":"SUM(B95-B94)","v":-3.6010000000000026},{"$f":"SUM(C95-C94)","v":-3.5940000000000012}]
[]
[]
[]
[]
["MMF",null,null,"PM Checks"]
[]
["\"Y\"",null,"PM4Y1","PM1Y1"]
[null,null,7.923,7.9429999999999996]
[null,null,1,1]
["Undulator",{"$f":"B5","v":"UN 6"},{"$f":"SUM(C104+C105)","v":8.923},{"$f":"SUM(D104+D105)","v":8.9429999999999996}]
["Date:",{"$f":"B6","v":"2009-10-02"}]
["Crew:",{"$f":"B7","v":"LG, JM, BR"}]
[null,null,"HI =",{"$f":"AVERAGE(C106,D106)","v":8.9329999999999998}]
[]
["PM4",null,"PM3"]
[]
["Y1)","X1)","Y2)","X1"]
[{"$f":"C104","v":7.923},11.531000000000001,7.9269999999999996,11.53]
[1,1,1,1]
[{"$f":"SUM(A114:A115)","v":8.923},{"$f":"SUM(B114:B115)","v":12.531000000000001},{"$f":"SUM(C114:C115)","v":8.9269999999999996},{"$f":"SUM(D114:D115)","v":12.53}]
[{"$f":"D109","v":8.9329999999999998},{"$f":"D109","v":8.9329999999999998},{"$f":"D109","v":8.9329999999999998},{"$f":"D109","v":8.9329999999999998}]
[{"$f":"SUM(A117-A116)","v":9.9999999999997868E-3},{"$f":"SUM(B117-B116)","v":-3.5980000000000008},{"$f":"SUM(C117-C116)","v":6.0000000000002274E-3},{"$f":"SUM(D117-D116)","v":-3.5969999999999995}]
[]
[]
["PM2",null,"PM1"]
[]
["Y1)","X1)","Y1)","X1)"]
[7.9409999999999998,11.541,{"$f":"D104","v":7.9429999999999996},11.544]
[1,1,1,1]
[{"$f":"SUM(A124:A125)","v":8.9409999999999989},{"$f":"SUM(B124:B125)","v":12.541},{"$f":"SUM(C124:C125)","v":8.9429999999999996},{"$f":"SUM(D124:D125)","v":12.544}]
[{"$f":"D109","v":8.9329999999999998},{"$f":"D109","v":8.9329999999999998},{"$f":"D109","v":8.9329999999999998},{"$f":"D109","v":8.9329999999999998}]
[{"$f":"SUM(A127-A126)","v":-7.9999999999991189E-3},{"$f":"SUM(B127-B126)","v":-3.6080000000000005},{"$f":"SUM(C127-C126)","v":-9.9999999999997868E-3},{"$f":"SUM(D127-D126)","v":-3.6110000000000007}]
[]
[]
[]
[]
[]
[]
["Top Of Gage Block",null,"Probe Location in (X)"]
[]
[13.324,null,-5.47,"LOS"]
[{"$f":"D109","v":8.9329999999999998},null,0.02,"Mic To Plus Edge"]
[{"$f":"SUM(A138-A137)","v":-4.391},null,{"$f":"SUM(C137+C138)","v":-5.45}]
[null,null,-3.9E-2]
[null,null,{"$f":"(C139+C140)","v":-5.4889999999999999},"Probe Location"]
[]
[]
[]
[]
[]
[]
[]
[]
[]
["MMF",null,null,"PM Checks"]
[]
["\"Y\""]
[]
["Undulator",{"$f":"B5","v":"UN 6"}]
["Date:",{"$f":"B6","v":"2009-10-02"}]
["Crew:",{"$f":"B7","v":"LG, JM, BR"}]
[]
[]
["HI =",{"$f":"D109","v":8.9329999999999998}]
[]
["Undulator"]
[]
["1)","2)","3)","4)"]
[4.4480000000000004,4.4539999999999997,4.4580000000000002,4.4580000000000002]
[1,1,1,1]
[{"$f":"SUM(A165:A166)","v":5.4480000000000004},{"$f":"SUM(B165:B166)","v":5.4539999999999997},{"$f":"SUM(C165:C166)","v":5.4580000000000002},{"$f":"SUM(D165:D166)","v":5.4580000000000002}]
[{"$f":"D109","v":8.9329999999999998},{"$f":"D109","v":8.9329999999999998},{"$f":"D109","v":8.9329999999999998},{"$f":"D109","v":8.9329999999999998}]
[{"$f":"SUM(A168-A167)","v":3.4849999999999994},{"$f":"SUM(B168-B167)","v":3.4790000000000001},{"$f":"SUM(C168-C167)","v":3.4749999999999996},{"$f":"SUM(D168-D167)","v":3.4749999999999996}]
[]
[]
["5)","6)","7)","8)"]
[11.529,11.535,11.534000000000001,11.536]
[1,1,1,1]
[{"$f":"SUM(A173+A174)","v":12.529},{"$f":"SUM(B173+B174)","v":12.535},{"$f":"SUM(C173+C174)","v":12.534000000000001},{"$f":"SUM(D173+D174)","v":12.536}]
[{"$f":"D109","v":8.9329999999999998},{"$f":"D109","v":8.9329999999999998},{"$f":"D109","v":8.9329999999999998},{"$f":"D109","v":8.9329999999999998}]
[{"$f":"SUM(A176-A175)","v":-3.5960000000000001},{"$f":"SUM(B176-B175)","v":-3.6020000000000003},{"$f":"SUM(C176-C175)","v":-3.6010000000000009},{"$f":"SUM(D176-D175)","v":-3.6029999999999998}]
[]
[]
[]
["Reference Block"]
[]
["A)","B)","C)","D)"]
[8.1620000000000008,null,10.307,13.388999999999999]
[1,null,1,1]
[{"$f":"SUM(A184+A185)","v":9.1620000000000008},null,{"$f":"SUM(C184+C185)","v":11.307},{"$f":"SUM(D184+D185)","v":14.388999999999999}]
[{"$f":"D109","v":8.9329999999999998},null,{"$f":"D109","v":8.9329999999999998},{"$f":"D109","v":8.9329999999999998}]
[{"$f":"SUM(A187-A186)","v":-0.22900000000000098},0,{"$f":"SUM(C187-C186)","v":-2.3740000000000006},{"$f":"SUM(D187-D186)","v":-5.4559999999999995}]
[]
[]
["Flats"]
[]
["U/S",null,"D/S"]
["(+)","(-)","(+)","(-)"]
[7.2119999999999997,7.2119999999999997,7.2220000000000004,7.2229999999999999]
[{"$f":"D109","v":8.9329999999999998},{"$f":"D109","v":8.9329999999999998},{"$f":"D109","v":8.9329999999999998},{"$f":"D109","v":8.9329999999999998}]
[{"$f":"SUM(A196-A195)","v":1.7210000000000001},{"$f":"SUM(B196-B195)","v":1.7210000000000001},{"$f":"SUM(C196-C195)","v":1.7109999999999994},{"$f":"SUM(D196-D195)","v":1.71}]

{"sheet":"Sheet2","index":1,"n_rows":42,"n_cols":8,"rows_kept":42,"cut":false,"hidden":false,"merged":[]}
[]
["Undulator"," ",{"$f":"Sheet1!B5","v":"UN 6"}]
["Date"," ",{"$f":"Sheet1!B6","v":"2009-10-02"}]
["Crew"," ",{"$f":"Sheet1!B7","v":"LG, JM, BR"}]
[]
[]
["Undulator Values"]
[]
["TB","Y (in)","Y (mm)",null,null,"TB","X (in)","X (mm)"]
[1,{"$f":"Sheet1!A169","v":3.4849999999999994},{"$f":"B10*25.4","v":88.518999999999977},null,null,5,{"$f":"Sheet1!A35","v":4.2989999999999995},{"$f":"G10*25.4","v":109.19459999999998}]
[2,{"$f":"Sheet1!B169","v":3.4790000000000001},{"$f":"B11*25.4","v":88.366599999999991},null,null,6,{"$f":"Sheet1!B35","v":4.3030000000000008},{"$f":"G11*25.4","v":109.29620000000001}]
[3,{"$f":"Sheet1!C169","v":3.4749999999999996},{"$f":"B12*25.4","v":88.264999999999986},null,null,7,{"$f":"Sheet1!C35","v":4.3039999999999985},{"$f":"G12*25.4","v":109.32159999999996}]
[4,{"$f":"Sheet1!D169","v":3.4749999999999996},{"$f":"B13*25.4","v":88.264999999999986},null,null,8,{"$f":"Sheet1!D35","v":4.3030000000000008},{"$f":"G13*25.4","v":109.29620000000001}]
[]
[]
["PM Values"]
[]
[null,null,"Upstream"," ","(PM 3)",null,"Checks"]
["TB","X (in)","Y (in)","X (mm)","Y (mm)",null,"X (mm)","Y (mm)"]
["Y2",{"$f":"Sheet1!C78","v":-5.4759999999999991},{"$f":"Sheet1!C118","v":6.0000000000002274E-3},{"$f":"B20*25.4","v":-139.09039999999996},{"$f":"C20*25.4","v":0.15240000000000575},null,{"$f":"H10-D21","v":156.94660000000005},{"$f":"C10-E20","v":88.366599999999977}]
["X1",{"$f":"Sheet1!A78","v":-1.8800000000000026},{"$f":"Sheet1!D118","v":-3.5969999999999995},{"$f":"B21*25.4","v":-47.752000000000059},{"$f":"C21*25.4","v":-91.363799999999983}]
["Y1",{"$f":"Sheet1!B78","v":-5.4770000000000039},null,{"$f":"B22*25.4","v":-139.11580000000009}]
[]
[null,null,"Downstream",null,"(PM 2)"," ","Checks"]
["TB","X (in)","Y (in)","X (mm)","Y (mm)",null,"X (mm)","Y (mm)"]
["Y1",{"$f":"Sheet1!B87","v":-5.472999999999999},{"$f":"Sheet1!A128","v":-7.9999999999991189E-3},{"$f":"B26*25.4","v":-139.01419999999996},{"$f":"C26*25.4","v":-0.20319999999997762},null,{"$f":"H13-D27","v":156.94660000000005},{"$f":"C13-E26","v":88.468199999999968}]
["X1",{"$f":"Sheet1!A87","v":-1.8760000000000012},{"$f":"Sheet1!B128","v":-3.6080000000000005},{"$f":"B27*25.4","v":-47.650400000000026},{"$f":"C27*25.4","v":-91.643200000000007}]
["Y2",{"$f":"Sheet1!C87","v":-5.4720000000000013},"\\",{"$f":"B28*25.4","v":-138.98880000000003}]
[]
[]
[]
[]
[null,"Probe",null,null,null,"Flats"]
[]
[null,"X (in)","X (mm)",null," ","Y(in)","Y(mm)"]
[null,{"$f":"Sheet1!C141","v":-5.4889999999999999},{"$f":"B36*25.4","v":-139.42059999999998},null,"US  +",{"$f":"Sheet1!A197","v":1.7210000000000001},{"$f":"F36*25.4","v":43.7134}]
[null," ",null,null,"US   -",{"$f":"Sheet1!B197","v":1.7210000000000001},{"$f":"F37*25.4","v":43.7134}]
[null,null,null,null,"DS  +",{"$f":"Sheet1!C197","v":1.7109999999999994},{"$f":"F38*25.4","v":43.459399999999981}]
[null,null,"Top of Gage Block",null,"DS   -",{"$f":"Sheet1!D197","v":1.71},{"$f":"F39*25.4","v":43.433999999999997}]
[]
[null,"Y (in)","Y (mm)"]
[null,{"$f":"Sheet1!A139","v":-4.391},{"$f":"B42*25.4","v":-111.53139999999999}]

{"sheet":"Sheet3","index":2,"n_rows":52,"n_cols":9,"rows_kept":52,"cut":false,"hidden":false,"merged":[]}
[]
["Undulator"," ",{"$f":"Sheet1!B5","v":"UN 6"}]
["Date"," ",{"$f":"Sheet1!B6","v":"2009-10-02"}]
["Crew"," ",{"$f":"Sheet1!B7","v":"LG, JM, BR"}]
[]
[]
[null,null,"Undulator Values"]
[]
["TB","X (in)","Y (in)","X (mm)","Y (mm)",null,"Probe"]
[1,{"$f":"Sheet1!A28","v":-5.4849999999999994},{"$f":"Sheet1!A169","v":3.4849999999999994},{"$f":"SUM(B10*25.4)","v":-139.31899999999999},{"$f":"SUM(D10*25.4)","v":-3538.7025999999996}]
[2,{"$f":"Sheet1!B28","v":-5.4819999999999993},{"$f":"Sheet1!B169","v":3.4790000000000001},{"$f":"SUM(B11*25.4)","v":-139.24279999999999},{"$f":"SUM(D11*25.4)","v":-3536.7671199999995},null,"X (in)","X (mm)"]
[3,{"$f":"Sheet1!C28","v":-5.4819999999999993},{"$f":"Sheet1!C169","v":3.4749999999999996},-139.24279999999999,-3536.7671199999995,null,{"$f":"Sheet1!C141","v":-5.4889999999999999},{"$f":"SUM(G12*25.4)","v":-139.42059999999998}]
[4,{"$f":"Sheet1!D28","v":-5.4789999999999992},{"$f":"Sheet1!D169","v":3.4749999999999996},-139.16659999999996,-3534.831639999999]
[5,{"$f":"Sheet1!A35","v":4.2989999999999995},{"$f":"Sheet1!A177","v":-3.5960000000000001},109.19459999999998,2773.5428399999992]
[6,{"$f":"Sheet1!B35","v":4.3030000000000008},{"$f":"Sheet1!B177","v":-3.6020000000000003},109.29620000000001,2776.1234800000002,null,"Top of Gage Block"]
[7,{"$f":"Sheet1!C35","v":4.3039999999999985},{"$f":"Sheet1!C177","v":-3.6010000000000009},109.32159999999996,2776.7686399999989]
[8,{"$f":"Sheet1!D35","v":4.3030000000000008},{"$f":"Sheet1!D177","v":-3.6029999999999998},109.29620000000001,2776.1234800000002,null,"Y (in)","Y (mm)"]
[null,null,null,null,null,null,{"$f":"Sheet1!A139","v":-4.391},{"$f":"SUM(G18*25.4)","v":-111.53139999999999}]
[null,null,"Undulator PM Values"]
[]
[null,null,"Upstream"," ","(PM 3)"]
["TB","X (in)","Y (in)","X (mm)","Y (mm)",null,"Flats"]
["Y2",{"$f":"Sheet1!A78","v":-1.8800000000000026},{"$f":"Sheet1!C118","v":6.0000000000002274E-3},{"$f":"SUM(B23*25.4)","v":-47.752000000000059},{"$f":"SUM(C23*25.4)","v":0.15240000000000575}]
["X1",{"$f":"Sheet1!A78","v":-1.8800000000000026},{"$f":"Sheet1!D118","v":-3.5969999999999995},{"$f":"SUM(B24*25.4)","v":-47.752000000000059},{"$f":"SUM(C24*25.4)","v":-91.363799999999983},null," ","Y(in)","Y(mm)"]
["Y1",{"$f":"Sheet1!B78","v":-5.4770000000000039},null,{"$f":"SUM(B25*25.4)","v":-139.11580000000009},null,null,"US  +",{"$f":"Sheet1!A197","v":1.7210000000000001},{"$f":"SUM(H25*25.4)","v":43.7134}]
[null,null,null,null,null,null,"US   -",{"$f":"Sheet1!B197","v":1.7210000000000001},{"$f":"SUM(H26*25.4)","v":43.7134}]
[null,null,"Downstream",null,"(PM 2)",null,"DS  +",{"$f":"Sheet1!C197","v":1.7109999999999994},{"$f":"SUM(H27*25.4)","v":43.459399999999981}]
["TB","X (in)","Y (in)","X (mm)","Y (mm)",null,"DS   -",{"$f":"Sheet1!D197","v":1.71},{"$f":"SUM(H28*25.4)","v":43.433999999999997}]
["Y1",{"$f":"Sheet1!B87","v":-5.472999999999999},{"$f":"Sheet1!A128","v":-7.9999999999991189E-3},{"$f":"SUM(B29*25.4)","v":-139.01419999999996},{"$f":"SUM(C29*25.4)","v":-0.20319999999997762}]
["X1",{"$f":"Sheet1!A87","v":-1.8760000000000012},{"$f":"Sheet1!B128","v":-3.6080000000000005},{"$f":"SUM(B30*25.4)","v":-47.650400000000026},{"$f":"SUM(C30*25.4)","v":-91.643200000000007}]
["Y2",{"$f":"Sheet1!C87","v":-5.4720000000000013},null,{"$f":"SUM(B31*25.4)","v":-138.98880000000003}]
[]
[null,null,"Ref. PM Values"]
[]
[null,null,"Upstream"," ","(PM 4)"]
["TB","X (in)","Y (in)","X (mm)","Y (mm)"]
["Y1",{"$f":"Sheet1!B68","v":-3.5990000000000002},{"$f":"Sheet1!A118","v":9.9999999999997868E-3},{"$f":"SUM(B37*25.4)","v":-91.414599999999993},{"$f":"SUM(C37*25.4)","v":0.25399999999999456},null,null," "," "]
["X1",0,{"$f":"Sheet1!B118","v":-3.5980000000000008},0,{"$f":"SUM(C38*25.4)","v":-91.389200000000017}]
["Y2",{"$f":"Sheet1!C68","v":-3.6030000000000015},null,{"$f":"SUM(B39*25.4)","v":-91.51620000000004}]
[]
[null,null,"Downstream",null,"(PM 1)"]
["TB","X (in)","Y (in)","X (mm)","Y (mm)"]
["Y1",{"$f":"Sheet1!B96","v":-3.6010000000000026},{"$f":"Sheet1!C128","v":-9.9999999999997868E-3},{"$f":"SUM(B43*25.4)","v":-91.465400000000059},{"$f":"SUM(C43*25.4)","v":-0.25399999999999456}]
["X1",0,{"$f":"Sheet1!D128","v":-3.6110000000000007},0,{"$f":"SUM(C44*25.4)","v":-91.719400000000007}]
["Y2",{"$f":"Sheet1!C96","v":-3.5940000000000012},null,{"$f":"SUM(B45*25.4)","v":-91.287600000000026}]
[]
[null,null,"Ref. Block"]
["TB","X (in)","Y (in)","X (mm)","Y (mm)"]
["A",{"$f":"Sheet1!A45","v":-7.0339999999999989},{"$f":"Sheet1!A188","v":-0.22900000000000098},{"$f":"SUM(B49*25.4)","v":-178.66359999999997},{"$f":"SUM(C49*25.4)","v":-5.8166000000000242}]
["B",{"$f":"Sheet1!B45","v":-2.4990000000000023},null,{"$f":"SUM(B50*25.4)","v":-63.474600000000052}]
["C",{"$f":"Sheet1!C45","v":-0.74200000000000088},{"$f":"Sheet1!C188","v":-2.3740000000000006},{"$f":"SUM(B51*25.4)","v":-18.846800000000023},{"$f":"SUM(C51*25.4)","v":-60.299600000000012}]
["D",{"$f":"Sheet1!D45","v":-0.74200000000000088},{"$f":"Sheet1!D188","v":-5.4559999999999995},{"$f":"SUM(B52*25.4)","v":-18.846800000000023},{"$f":"SUM(C52*25.4)","v":-138.58239999999998}]