{"text_format":"1","workbook":"xlsx","n_sheets":3,"sheets":["1st Int","2nd Int","DF raw data"],"not_rendered":{"charts":4,"images":0,"macros":1,"external_links":0,"defined_names":5,"comments":0,"pivot_tables":0},"unopened":[],"bounds":{"document_bytes":16777216,"sheet_cells":100000,"rows_first":2000,"rows_last":500,"rows_between":2000,"halvings":0,"cell_chars":16384,"cell_head_chars":4096},"cells_cut":0,"cells_raw":0,"read":"whole","date_system":"1900"}

{"sheet":"1st Int","index":0,"n_rows":24,"n_cols":23,"rows_kept":24,"cut":false,"hidden":false,"merged":[]}
["Integral SW measurements",null,null,"Encoder value at 10 mm gap:",null,null,20.429349999999999]
["Background has been subtracted"]
["y pos in gap",0,"mm",null,null,null,null,null,null,null,null,null,null,null,null,1,1,2,2,3,3,4,4]
["Gap nominal",10,"mm",15,"mm",20,"mm",30,"mm",100,"mm",null,null,null,"Gap","Skew Int.","Norm. Int.","Skew Grad.","Normal Grad.","Skew Sext.","Normal Sext.","Skew Oct.","Normal Oct."]
["Encoder",{"$f":"'DF raw data'!B30","v":20.4316},null,{"$f":"'DF raw data'!G30","v":25.4693},null,{"$f":"'DF raw data'!L30","v":30.490300000000001},null,{"$f":"'DF raw data'!Q30","v":40.508200000000002},null,{"$f":"'DF raw data'!V30","v":110.52119999999999},null,null,null,1,"mm","µTm","µTm","mT","mT","Tm^2","Tm^2","Tm^3","Tm^3"]
["Gap actual",{"$f":"B5-$G$1+10","v":10.00225},"mm",{"$f":"D5-$G$1+10","v":15.039950000000001},"mm",{"$f":"F5-$G$1+10","v":20.060950000000002},"mm",{"$f":"H5-$G$1+10","v":30.078850000000003},"mm",{"$f":"J5-$G$1+10","v":100.09184999999999},"mm",null,null,2,{"$f":"B4","v":10},{"$f":"INDEX($B$21:$K$24,P$3,$N5*2-1)","v":1.7353333333333332},{"$f":"INDEX($B$21:$M$25,Q$3,$N5*2)","v":-5.4643333333333368},{"$f":"INDEX($B$21:$M$25,R$3,$N5*2-1)","v":-0.50404744560994574},{"$f":"INDEX($B$21:$M$25,S$3,$N5*2)","v":-1.7240389471639483},{"$f":"INDEX($B$21:$M$25,T$3,$N5*2-1)","v":-6.9476427738927718E-2},{"$f":"INDEX($B$21:$M$25,U$3,$N5*2)","v":9.6465617715618002E-3},{"$f":"INDEX($B$21:$M$25,V$3,$N5*2-1)","v":-1.9914748445998414},{"$f":"INDEX($B$21:$M$25,W$3,$N5*2)","v":4.5929244366744477}]
["x pos [m]","Ix [µTm]","Iy [µTm]","Ix [µTm]","Iy [µTm]","Ix [µTm]","Iy [µTm]","Ix [µTm]","Iy [µTm]","Ix [µTm]","Iy [µTm]",null,null,3,{"$f":"D4","v":15},{"$f":"INDEX($B$21:$K$24,P$3,$N6*2-1)","v":0.24016666666666683},{"$f":"INDEX($B$21:$M$25,Q$3,$N6*2)","v":-4.7466666666666724},{"$f":"INDEX($B$21:$M$25,R$3,$N6*2-1)","v":-0.46847647630147632},{"$f":"INDEX($B$21:$M$25,S$3,$N6*2)","v":-0.851360236985237},{"$f":"INDEX($B$21:$M$25,T$3,$N6*2-1)","v":-1.490712412587413E-2},{"$f":"INDEX($B$21:$M$25,U$3,$N6*2)","v":-5.6037296037296253E-3},{"$f":"INDEX($B$21:$M$25,V$3,$N6*2-1)","v":-5.5414214257964263},{"$f":"INDEX($B$21:$M$25,W$3,$N6*2)","v":3.2835324397824346}]
[{"$f":"'DF raw data'!A43/1000","v":-0.01},{"$f":"('DF raw data'!B43-'DF raw data'!B$14*1000)*1000","v":2.3821000000000003},{"$f":"('DF raw data'!C43-'DF raw data'!C$14*1000)*1000","v":8.0329999999999924},{"$f":"('DF raw data'!G43-'DF raw data'!G$14*1000)*1000","v":9.8195999999999994},{"$f":"('DF raw data'!H43-'DF raw data'!H$14*1000)*1000","v":-1.2650000000000023},{"$f":"('DF raw data'!L43-'DF raw data'!L$14*1000)*1000","v":8.6145999999999994},{"$f":"('DF raw data'!M43-'DF raw data'!M$14*1000)*1000","v":-5.727000000000003},{"$f":"('DF raw data'!Q43-'DF raw data'!Q$14*1000)*1000","v":15.314599999999999},{"$f":"('DF raw data'!R43-'DF raw data'!R$14*1000)*1000","v":-9.6870000000000083},{"$f":"('DF raw data'!V43-'DF raw data'!V$14*1000)*1000","v":5.0574000000000003},{"$f":"('DF raw data'!W43-'DF raw data'!W$14*1000)*1000","v":-0.54800000000000681},null,null,4,{"$f":"F4","v":20},{"$f":"INDEX($B$21:$K$24,P$3,$N7*2-1)","v":-2.3089900000000001},{"$f":"INDEX($B$21:$M$25,Q$3,$N7*2)","v":-4.1410000000000062},{"$f":"INDEX($B$21:$M$25,R$3,$N7*2-1)","v":-0.69990036130536137},{"$f":"INDEX($B$21:$M$25,S$3,$N7*2)","v":-0.57283974358974332},{"$f":"INDEX($B$21:$M$25,T$3,$N7*2-1)","v":-1.1019726107226067E-3},{"$f":"INDEX($B$21:$M$25,U$3,$N7*2)","v":-2.9849650349650324E-2},{"$f":"INDEX($B$21:$M$25,V$3,$N7*2-1)","v":-2.4658318764568734},{"$f":"INDEX($B$21:$M$25,W$3,$N7*2)","v":3.5499708624708588}]
[{"$f":"'DF raw data'!A44/1000","v":-8.0000000000000002E-3},{"$f":"('DF raw data'!B44-'DF raw data'!B$14*1000)*1000","v":5.7769999999999992},{"$f":"('DF raw data'!C44-'DF raw data'!C$14*1000)*1000","v":6.4589999999999925},{"$f":"('DF raw data'!G44-'DF raw data'!G$14*1000)*1000","v":5.4894999999999996},{"$f":"('DF raw data'!H44-'DF raw data'!H$14*1000)*1000","v":0.27399999999999647},{"$f":"('DF raw data'!L44-'DF raw data'!L$14*1000)*1000","v":3.2885999999999997},{"$f":"('DF raw data'!M44-'DF raw data'!M$14*1000)*1000","v":-0.88100000000000678},{"$f":"('DF raw data'!Q44-'DF raw data'!Q$14*1000)*1000","v":3.3707999999999996},{"$f":"('DF raw data'!R44-'DF raw data'!R$14*1000)*1000","v":-3.9250000000000047},{"$f":"('DF raw data'!V44-'DF raw data'!V$14*1000)*1000","v":1.8870999999999996},{"$f":"('DF raw data'!W44-'DF raw data'!W$14*1000)*1000","v":2.1429999999999922},null,null,5,{"$f":"H4","v":30},{"$f":"INDEX($B$21:$K$24,P$3,$N8*2-1)","v":-2.1796666666666664},{"$f":"INDEX($B$21:$M$25,Q$3,$N8*2)","v":-3.0703333333333416},{"$f":"INDEX($B$21:$M$25,R$3,$N8*2-1)","v":-0.4949957420357422},{"$f":"INDEX($B$21:$M$25,S$3,$N8*2)","v":-8.151757964257976E-2},{"$f":"INDEX($B$21:$M$25,T$3,$N8*2-1)","v":3.1737301864801871E-2},{"$f":"INDEX($B$21:$M$25,U$3,$N8*2)","v":-2.7502622377622354E-2},{"$f":"INDEX($B$21:$M$25,V$3,$N8*2-1)","v":-6.2077806915306857},{"$f":"INDEX($B$21:$M$25,W$3,$N8*2)","v":3.4920114607614643}]
[{"$f":"'DF raw data'!A45/1000","v":-6.0000000000000001E-3},{"$f":"('DF raw data'!B45-'DF raw data'!B$14*1000)*1000","v":10.1846},{"$f":"('DF raw data'!C45-'DF raw data'!C$14*1000)*1000","v":1.7369999999999954},{"$f":"('DF raw data'!G45-'DF raw data'!G$14*1000)*1000","v":7.1971999999999987},{"$f":"('DF raw data'!H45-'DF raw data'!H$14*1000)*1000","v":-2.9350000000000072},{"$f":"('DF raw data'!L45-'DF raw data'!L$14*1000)*1000","v":5.2225000000000001},{"$f":"('DF raw data'!M45-'DF raw data'!M$14*1000)*1000","v":-4.6810000000000045},{"$f":"('DF raw data'!Q45-'DF raw data'!Q$14*1000)*1000","v":5.8881999999999994},{"$f":"('DF raw data'!R45-'DF raw data'!R$14*1000)*1000","v":-4.0530000000000079},{"$f":"('DF raw data'!V45-'DF raw data'!V$14*1000)*1000","v":9.4945999999999984},{"$f":"('DF raw data'!W45-'DF raw data'!W$14*1000)*1000","v":-1.7770000000000077},null,null,6,{"$f":"J4","v":100},{"$f":"INDEX($B$21:$K$24,P$3,$N9*2-1)","v":3.8663666666666661},{"$f":"INDEX($B$21:$M$25,Q$3,$N9*2)","v":2.297666666666661},{"$f":"INDEX($B$21:$M$25,R$3,$N9*2-1)","v":-0.88895109362859326},{"$f":"INDEX($B$21:$M$25,S$3,$N9*2)","v":0.15882158119658152},{"$f":"INDEX($B$21:$M$25,T$3,$N9*2-1)","v":-2.6916142191141844E-3},{"$f":"INDEX($B$21:$M$25,U$3,$N9*2)","v":-1.9678030303030315E-2},{"$f":"INDEX($B$21:$M$25,V$3,$N9*2-1)","v":9.0961504467754413},{"$f":"INDEX($B$21:$M$25,W$3,$N9*2)","v":-0.36987665112665374}]
[{"$f":"'DF raw data'!A46/1000","v":-4.0000000000000001E-3},{"$f":"('DF raw data'!B46-'DF raw data'!B$14*1000)*1000","v":5.5947999999999984},{"$f":"('DF raw data'!C46-'DF raw data'!C$14*1000)*1000","v":1.0949999999999918},{"$f":"('DF raw data'!G46-'DF raw data'!G$14*1000)*1000","v":2.7335000000000003},{"$f":"('DF raw data'!H46-'DF raw data'!H$14*1000)*1000","v":-3.700000000000002},{"$f":"('DF raw data'!L46-'DF raw data'!L$14*1000)*1000","v":3.9977},{"$f":"('DF raw data'!M46-'DF raw data'!M$14*1000)*1000","v":-0.56100000000000594},{"$f":"('DF raw data'!Q46-'DF raw data'!Q$14*1000)*1000","v":4.7112000000000007},{"$f":"('DF raw data'!R46-'DF raw data'!R$14*1000)*1000","v":-4.4570000000000025},{"$f":"('DF raw data'!V46-'DF raw data'!V$14*1000)*1000","v":8.8895999999999997},{"$f":"('DF raw data'!W46-'DF raw data'!W$14*1000)*1000","v":4.9399999999999933}]
[{"$f":"'DF raw data'!A47/1000","v":-2E-3},{"$f":"('DF raw data'!B47-'DF raw data'!B$14*1000)*1000","v":3.9676},{"$f":"('DF raw data'!C47-'DF raw data'!C$14*1000)*1000","v":2.6549999999999976},{"$f":"('DF raw data'!G47-'DF raw data'!G$14*1000)*1000","v":1.6003000000000003},{"$f":"('DF raw data'!H47-'DF raw data'!H$14*1000)*1000","v":-1.1930000000000065},{"$f":"('DF raw data'!L47-'DF raw data'!L$14*1000)*1000","v":-1.2275},{"$f":"('DF raw data'!M47-'DF raw data'!M$14*1000)*1000","v":-4.2670000000000066},{"$f":"('DF raw data'!Q47-'DF raw data'!Q$14*1000)*1000","v":0.35750000000000015},{"$f":"('DF raw data'!R47-'DF raw data'!R$14*1000)*1000","v":-2.2560000000000082},{"$f":"('DF raw data'!V47-'DF raw data'!V$14*1000)*1000","v":2.8077999999999994},{"$f":"('DF raw data'!W47-'DF raw data'!W$14*1000)*1000","v":4.3569999999999931},null,null,null,"Max 10-30mm",{"$f":"MAX(ABS(MAX(P6:P9)),ABS(MIN(P6:P9)))","v":2.3089900000000001},{"$f":"MAX(ABS(MAX(Q6:Q9)),ABS(MIN(Q6:Q9)))","v":5.4643333333333368},{"$f":"MAX(ABS(MAX(R6:R9)),ABS(MIN(R6:R9)))","v":0.69990036130536137},1.7240389471639483,6.9476427738927718E-2,2.9849650349650324E-2,6.2077806915306857,4.5929244366744477]
[{"$f":"'DF raw data'!A48/1000","v":0},{"$f":"('DF raw data'!B48-'DF raw data'!B$14*1000)*1000","v":0.36220000000000002},{"$f":"('DF raw data'!C48-'DF raw data'!C$14*1000)*1000","v":-8.5350000000000072},{"$f":"('DF raw data'!G48-'DF raw data'!G$14*1000)*1000","v":-0.90759999999999996},{"$f":"('DF raw data'!H48-'DF raw data'!H$14*1000)*1000","v":-6.4030000000000058},{"$f":"('DF raw data'!L48-'DF raw data'!L$14*1000)*1000","v":-3.8075000000000001},{"$f":"('DF raw data'!M48-'DF raw data'!M$14*1000)*1000","v":-3.3110000000000084},{"$f":"('DF raw data'!Q48-'DF raw data'!Q$14*1000)*1000","v":-1.3947000000000001},{"$f":"('DF raw data'!R48-'DF raw data'!R$14*1000)*1000","v":-3.4500000000000086},{"$f":"('DF raw data'!V48-'DF raw data'!V$14*1000)*1000","v":2.9497},{"$f":"('DF raw data'!W48-'DF raw data'!W$14*1000)*1000","v":-0.45900000000000801},null,null,null,"Max change 10-30mm",{"$f":"MAX(P6:P9)-MIN(P6:P9)","v":4.0443233333333328},{"$f":"MAX(Q6:Q9)-MIN(Q6:Q9)","v":2.3939999999999952}]
[{"$f":"'DF raw data'!A49/1000","v":2E-3},{"$f":"('DF raw data'!B49-'DF raw data'!B$14*1000)*1000","v":0.8762000000000002},{"$f":"('DF raw data'!C49-'DF raw data'!C$14*1000)*1000","v":-10.513000000000002},{"$f":"('DF raw data'!G49-'DF raw data'!G$14*1000)*1000","v":2.7800000000000134E-2},{"$f":"('DF raw data'!H49-'DF raw data'!H$14*1000)*1000","v":-6.6440000000000037},{"$f":"('DF raw data'!L49-'DF raw data'!L$14*1000)*1000","v":-1.8919699999999999},{"$f":"('DF raw data'!M49-'DF raw data'!M$14*1000)*1000","v":-4.8450000000000024},{"$f":"('DF raw data'!Q49-'DF raw data'!Q$14*1000)*1000","v":-5.5017999999999994},{"$f":"('DF raw data'!R49-'DF raw data'!R$14*1000)*1000","v":-3.5050000000000079},{"$f":"('DF raw data'!V49-'DF raw data'!V$14*1000)*1000","v":5.8415999999999988},{"$f":"('DF raw data'!W49-'DF raw data'!W$14*1000)*1000","v":2.9949999999999974}]
[{"$f":"'DF raw data'!A50/1000","v":4.0000000000000001E-3},{"$f":"('DF raw data'!B50-'DF raw data'!B$14*1000)*1000","v":1.8356999999999997},{"$f":"('DF raw data'!C50-'DF raw data'!C$14*1000)*1000","v":-13.172000000000009},{"$f":"('DF raw data'!G50-'DF raw data'!G$14*1000)*1000","v":0.39570000000000011},{"$f":"('DF raw data'!H50-'DF raw data'!H$14*1000)*1000","v":-11.527000000000003},{"$f":"('DF raw data'!L50-'DF raw data'!L$14*1000)*1000","v":-3.5374999999999996},{"$f":"('DF raw data'!M50-'DF raw data'!M$14*1000)*1000","v":-8.0790000000000095},{"$f":"('DF raw data'!Q50-'DF raw data'!Q$14*1000)*1000","v":-1.7981199999999999},{"$f":"('DF raw data'!R50-'DF raw data'!R$14*1000)*1000","v":-5.6400000000000059},{"$f":"('DF raw data'!V50-'DF raw data'!V$14*1000)*1000","v":0.32690000000000019},{"$f":"('DF raw data'!W50-'DF raw data'!W$14*1000)*1000","v":4.3089999999999931},null,null,null,"Imax Limit (±):",20,20]
[{"$f":"'DF raw data'!A51/1000","v":6.0000000000000001E-3},{"$f":"('DF raw data'!B51-'DF raw data'!B$14*1000)*1000","v":4.2120999999999995},{"$f":"('DF raw data'!C51-'DF raw data'!C$14*1000)*1000","v":-14.450000000000012},{"$f":"('DF raw data'!G51-'DF raw data'!G$14*1000)*1000","v":-2.0204499999999999},{"$f":"('DF raw data'!H51-'DF raw data'!H$14*1000)*1000","v":-10.14800000000001},{"$f":"('DF raw data'!L51-'DF raw data'!L$14*1000)*1000","v":-5.0615999999999994},{"$f":"('DF raw data'!M51-'DF raw data'!M$14*1000)*1000","v":-9.294000000000004},{"$f":"('DF raw data'!Q51-'DF raw data'!Q$14*1000)*1000","v":-0.40820000000000006},{"$f":"('DF raw data'!R51-'DF raw data'!R$14*1000)*1000","v":-1.9410000000000052},{"$f":"('DF raw data'!V51-'DF raw data'!V$14*1000)*1000","v":-2.59918},{"$f":"('DF raw data'!W51-'DF raw data'!W$14*1000)*1000","v":3.581999999999995},null,null,null,"Limits (±):",20,{"$f":"P16","v":20}]
[{"$f":"'DF raw data'!A52/1000","v":8.0000000000000002E-3},{"$f":"('DF raw data'!B52-'DF raw data'!B$14*1000)*1000","v":-5.4962},{"$f":"('DF raw data'!C52-'DF raw data'!C$14*1000)*1000","v":-14.30900000000001},{"$f":"('DF raw data'!G52-'DF raw data'!G$14*1000)*1000","v":-8.8103999999999996},{"$f":"('DF raw data'!H52-'DF raw data'!H$14*1000)*1000","v":-9.0240000000000116},{"$f":"('DF raw data'!L52-'DF raw data'!L$14*1000)*1000","v":-8.9006999999999987},{"$f":"('DF raw data'!M52-'DF raw data'!M$14*1000)*1000","v":-4.5310000000000077},{"$f":"('DF raw data'!Q52-'DF raw data'!Q$14*1000)*1000","v":-9.4390999999999998},{"$f":"('DF raw data'!R52-'DF raw data'!R$14*1000)*1000","v":-1.9690000000000054},{"$f":"('DF raw data'!V52-'DF raw data'!V$14*1000)*1000","v":2.8748},{"$f":"('DF raw data'!W52-'DF raw data'!W$14*1000)*1000","v":2.9789999999999957},null,null,null,"ΔI Limits (±):",15,{"$f":"P17","v":15}]
[{"$f":"'DF raw data'!A53/1000","v":0.01},{"$f":"('DF raw data'!B53-'DF raw data'!B$14*1000)*1000","v":-11.3109},{"$f":"('DF raw data'!C53-'DF raw data'!C$14*1000)*1000","v":-18.769000000000002},{"$f":"('DF raw data'!G53-'DF raw data'!G$14*1000)*1000","v":-9.9334000000000007},{"$f":"('DF raw data'!H53-'DF raw data'!H$14*1000)*1000","v":-12.451000000000011},{"$f":"('DF raw data'!L53-'DF raw data'!L$14*1000)*1000","v":-10.837100000000001},{"$f":"('DF raw data'!M53-'DF raw data'!M$14*1000)*1000","v":-11.000000000000004},{"$f":"('DF raw data'!Q53-'DF raw data'!Q$14*1000)*1000","v":-8.1115999999999993},{"$f":"('DF raw data'!R53-'DF raw data'!R$14*1000)*1000","v":-4.4430000000000023},{"$f":"('DF raw data'!V53-'DF raw data'!V$14*1000)*1000","v":3.7243999999999997},{"$f":"('DF raw data'!W53-'DF raw data'!W$14*1000)*1000","v":1.921999999999993}]
["DF indice",{"$f":"#REF!","v":{"$error":"#REF!"}},null,{"$f":"#REF!","v":{"$error":"#REF!"}},null,{"$f":"#REF!","v":{"$error":"#REF!"}},null,{"$f":"#REF!","v":{"$error":"#REF!"}},null,{"$f":"#REF!","v":{"$error":"#REF!"}}]
[]
["Average dipole [µTm]",{"$f":"AVERAGE(B12:B14)","v":1.7353333333333332},{"$f":"AVERAGE(C12:C14)","v":-5.4643333333333368},{"$f":"AVERAGE(D12:D14)","v":0.24016666666666683},-4.7466666666666724,-2.3089900000000001,-4.1410000000000062,-2.1796666666666664,-3.0703333333333416,3.8663666666666661,2.297666666666661,null,null,"Center dipole values: average of 3 points x = -2 to x = 2mm"]
["Gradient [mT]",{"$f":"INDEX(LINEST(B$8:B$18,$A$8:$A$18^{1,2,3},TRUE,TRUE),1,3)/1000","v":-0.50404744560994574},{"$f":"INDEX(LINEST(C$8:C$18,$A$8:$A$18^{1,2,3},TRUE,TRUE),1,3)/1000","v":-1.7240389471639483},{"$f":"INDEX(LINEST(D$8:D$18,$A$8:$A$18^{1,2,3},TRUE,TRUE),1,3)/1000","v":-0.46847647630147632},{"$f":"INDEX(LINEST(E$8:E$18,$A$8:$A$18^{1,2,3},TRUE,TRUE),1,3)/1000","v":-0.851360236985237},{"$f":"INDEX(LINEST(F$8:F$18,$A$8:$A$18^{1,2,3},TRUE,TRUE),1,3)/1000","v":-0.69990036130536137},{"$f":"INDEX(LINEST(G$8:G$18,$A$8:$A$18^{1,2,3},TRUE,TRUE),1,3)/1000","v":-0.57283974358974332},{"$f":"INDEX(LINEST(H$8:H$18,$A$8:$A$18^{1,2,3},TRUE,TRUE),1,3)/1000","v":-0.4949957420357422},{"$f":"INDEX(LINEST(I$8:I$18,$A$8:$A$18^{1,2,3},TRUE,TRUE),1,3)/1000","v":-8.151757964257976E-2},{"$f":"INDEX(LINEST(J$8:J$18,$A$8:$A$18^{1,2,3},TRUE,TRUE),1,3)/1000","v":-0.88895109362859326},{"$f":"INDEX(LINEST(K$8:K$18,$A$8:$A$18^{1,2,3},TRUE,TRUE),1,3)/1000","v":0.15882158119658152}]
["Sextupole  [Tm^2]",{"$f":"INDEX(LINEST(B$8:B$18,$A$8:$A$18^{1,2,3},TRUE,TRUE),1,2)/1000000","v":-6.9476427738927718E-2},{"$f":"INDEX(LINEST(C$8:C$18,$A$8:$A$18^{1,2,3},TRUE,TRUE),1,2)/1000000","v":9.6465617715618002E-3},{"$f":"INDEX(LINEST(D$8:D$18,$A$8:$A$18^{1,2,3},TRUE,TRUE),1,2)/1000000","v":-1.490712412587413E-2},{"$f":"INDEX(LINEST(E$8:E$18,$A$8:$A$18^{1,2,3},TRUE,TRUE),1,2)/1000000","v":-5.6037296037296253E-3},{"$f":"INDEX(LINEST(F$8:F$18,$A$8:$A$18^{1,2,3},TRUE,TRUE),1,2)/1000000","v":-1.1019726107226067E-3},{"$f":"INDEX(LINEST(G$8:G$18,$A$8:$A$18^{1,2,3},TRUE,TRUE),1,2)/1000000","v":-2.9849650349650324E-2},{"$f":"INDEX(LINEST(H$8:H$18,$A$8:$A$18^{1,2,3},TRUE,TRUE),1,2)/1000000","v":3.1737301864801871E-2},{"$f":"INDEX(LINEST(I$8:I$18,$A$8:$A$18^{1,2,3},TRUE,TRUE),1,2)/1000000","v":-2.7502622377622354E-2},{"$f":"INDEX(LINEST(J$8:J$18,$A$8:$A$18^{1,2,3},TRUE,TRUE),1,2)/1000000","v":-2.6916142191141844E-3},{"$f":"INDEX(LINEST(K$8:K$18,$A$8:$A$18^{1,2,3},TRUE,TRUE),1,2)/1000000","v":-1.9678030303030315E-2}]
["Octupole  [Tm^3]",{"$f":"INDEX(LINEST(B$8:B$18,$A$8:$A$18^{1,2,3},TRUE,TRUE),1,1)/1000000","v":-1.9914748445998414},{"$f":"INDEX(LINEST(C$8:C$18,$A$8:$A$18^{1,2,3},TRUE,TRUE),1,1)/1000000","v":4.5929244366744477},{"$f":"INDEX(LINEST(D$8:D$18,$A$8:$A$18^{1,2,3},TRUE,TRUE),1,1)/1000000","v":-5.5414214257964263},{"$f":"INDEX(LINEST(E$8:E$18,$A$8:$A$18^{1,2,3},TRUE,TRUE),1,1)/1000000","v":3.2835324397824346},{"$f":"INDEX(LINEST(F$8:F$18,$A$8:$A$18^{1,2,3},TRUE,TRUE),1,1)/1000000","v":-2.4658318764568734},{"$f":"INDEX(LINEST(G$8:G$18,$A$8:$A$18^{1,2,3},TRUE,TRUE),1,1)/1000000","v":3.5499708624708588},{"$f":"INDEX(LINEST(H$8:H$18,$A$8:$A$18^{1,2,3},TRUE,TRUE),1,1)/1000000","v":-6.2077806915306857},{"$f":"INDEX(LINEST(I$8:I$18,$A$8:$A$18^{1,2,3},TRUE,TRUE),1,1)/1000000","v":3.4920114607614643},{"$f":"INDEX(LINEST(J$8:J$18,$A$8:$A$18^{1,2,3},TRUE,TRUE),1,1)/1000000","v":9.0961504467754413},{"$f":"INDEX(LINEST(K$8:K$18,$A$8:$A$18^{1,2,3},TRUE,TRUE),1,1)/1000000","v":-0.36987665112665374}]

{"sheet":"2nd Int","index":1,"n_rows":22,"n_cols":17,"rows_kept":22,"cut":false,"hidden":false,"merged":[]}
["2nd Integral SW measurements"]
["Background has been subtracted",null,null,null,null,null,null,null,null,null,null,null,null,null,"Center values: average of 3 points x = -2 to x = 2"]
["y pos",{"$f":"'1st Int'!B3","v":0},"mm"]
["Gap nominal",{"$f":"'1st Int'!B4","v":10},"mm",{"$f":"'1st Int'!D4","v":15},"mm",{"$f":"'1st Int'!F4","v":20},"mm",{"$f":"'1st Int'!H4","v":30},"mm",{"$f":"'1st Int'!J4","v":100},"mm",null,null,null,"Gap","Skew 2. Int.","Norm. 2. Int."]
["Encoder",{"$f":"'1st Int'!B5","v":20.4316},null,{"$f":"'1st Int'!D5","v":25.4693},null,{"$f":"'1st Int'!F5","v":30.490300000000001},null,{"$f":"'1st Int'!H5","v":40.508200000000002},null,{"$f":"'1st Int'!J5","v":110.52119999999999},null,null,null,null,"mm","µTm^2","µTm^2"]
["Gap actual",{"$f":"B5-'1st Int'!$G$1+10","v":10.00225},"mm",{"$f":"D5-'1st Int'!$G$1+10","v":15.039950000000001},"mm",{"$f":"F5-'1st Int'!$G$1+10","v":20.060950000000002},"mm",{"$f":"H5-'1st Int'!$G$1+10","v":30.078850000000003},"mm",{"$f":"J5-'1st Int'!$G$1+10","v":100.09184999999999},"mm",null,null,null,{"$f":"B4","v":10},{"$f":"B22","v":7.8728000000000007},{"$f":"C22","v":-35.715600000000002}]
[{"$f":"'1st Int'!A7","v":"x pos [m]"},"Jx [muTm^2]","Jy [muTm^2]","Jx [muTm^2]","Jy [muTm^2]","Jx [muTm^2]","Jy [muTm^2]","Jx [muTm^2]","Jy [muTm^2]","Jx [muTm^2]","Jy [muTm^2]",null,null,null,{"$f":"D4","v":15},{"$f":"D22","v":4.2642333333333333},{"$f":"E22","v":-26.662933333333331}]
[{"$f":"'DF raw data'!A43/1000","v":-0.01},{"$f":"('DF raw data'!D43-'DF raw data'!D$14*1000^2)","v":-8.3320000000000061E-2},{"$f":"('DF raw data'!E43-'DF raw data'!E$14*1000^2)","v":-11.240933333333331},{"$f":"('DF raw data'!I43-'DF raw data'!I$14*1000^2)","v":15.6275},{"$f":"('DF raw data'!J43-'DF raw data'!J$14*1000^2)","v":-24.84193333333333},{"$f":"('DF raw data'!N43-'DF raw data'!N$14*1000^2)","v":8.8181999999999992},{"$f":"('DF raw data'!O43-'DF raw data'!O$14*1000^2)","v":-30.426933333333331},{"$f":"('DF raw data'!S43-'DF raw data'!S$14*1000^2)","v":24.255499999999998},{"$f":"('DF raw data'!T43-'DF raw data'!T$14*1000^2)","v":-30.48193333333333},{"$f":"('DF raw data'!X43-'DF raw data'!X$14*1000^2)","v":10.049199999999999},{"$f":"('DF raw data'!Y43-'DF raw data'!Y$14*1000^2)","v":-17.218933333333332},null,null,null,{"$f":"F4","v":20},{"$f":"F22","v":-1.5497266666666665},{"$f":"G22","v":-23.342599999999994}]
[{"$f":"'DF raw data'!A44/1000","v":-8.0000000000000002E-3},{"$f":"('DF raw data'!D44-'DF raw data'!D$14*1000^2)","v":-0.29977000000000004},{"$f":"('DF raw data'!E44-'DF raw data'!E$14*1000^2)","v":-22.851933333333335},{"$f":"('DF raw data'!I44-'DF raw data'!I$14*1000^2)","v":10.4595},{"$f":"('DF raw data'!J44-'DF raw data'!J$14*1000^2)","v":-20.051933333333331},{"$f":"('DF raw data'!N44-'DF raw data'!N$14*1000^2)","v":4.9664999999999999},{"$f":"('DF raw data'!O44-'DF raw data'!O$14*1000^2)","v":-26.559933333333333},{"$f":"('DF raw data'!S44-'DF raw data'!S$14*1000^2)","v":4.6696},{"$f":"('DF raw data'!T44-'DF raw data'!T$14*1000^2)","v":-15.296933333333328},{"$f":"('DF raw data'!X44-'DF raw data'!X$14*1000^2)","v":3.3601000000000001},{"$f":"('DF raw data'!Y44-'DF raw data'!Y$14*1000^2)","v":-13.60393333333333},null,null,null,{"$f":"H4","v":30},{"$f":"H22","v":1.3315666666666666},{"$f":"I22","v":-18.985266666666664}]
[{"$f":"'DF raw data'!A45/1000","v":-6.0000000000000001E-3},{"$f":"('DF raw data'!D45-'DF raw data'!D$14*1000^2)","v":10.2821},{"$f":"('DF raw data'!E45-'DF raw data'!E$14*1000^2)","v":-15.385933333333334},{"$f":"('DF raw data'!I45-'DF raw data'!I$14*1000^2)","v":10.5915},{"$f":"('DF raw data'!J45-'DF raw data'!J$14*1000^2)","v":-24.142933333333332},{"$f":"('DF raw data'!N45-'DF raw data'!N$14*1000^2)","v":6.9215},{"$f":"('DF raw data'!O45-'DF raw data'!O$14*1000^2)","v":-18.349933333333333},{"$f":"('DF raw data'!S45-'DF raw data'!S$14*1000^2)","v":12.093499999999999},{"$f":"('DF raw data'!T45-'DF raw data'!T$14*1000^2)","v":-16.215933333333332},{"$f":"('DF raw data'!X45-'DF raw data'!X$14*1000^2)","v":21.973499999999998},{"$f":"('DF raw data'!Y45-'DF raw data'!Y$14*1000^2)","v":-11.430933333333329},null,null,null,{"$f":"J4","v":100},{"$f":"J22","v":2.6989033333333339},{"$f":"K22","v":-9.46993333333333}]
[{"$f":"'DF raw data'!A46/1000","v":-4.0000000000000001E-3},{"$f":"('DF raw data'!D46-'DF raw data'!D$14*1000^2)","v":11.079499999999999},{"$f":"('DF raw data'!E46-'DF raw data'!E$14*1000^2)","v":-23.267933333333332},{"$f":"('DF raw data'!I46-'DF raw data'!I$14*1000^2)","v":2.5775999999999999},{"$f":"('DF raw data'!J46-'DF raw data'!J$14*1000^2)","v":-25.419933333333333},{"$f":"('DF raw data'!N46-'DF raw data'!N$14*1000^2)","v":9.3020999999999994},{"$f":"('DF raw data'!O46-'DF raw data'!O$14*1000^2)","v":-19.288933333333333},{"$f":"('DF raw data'!S46-'DF raw data'!S$14*1000^2)","v":8.0763999999999996},{"$f":"('DF raw data'!T46-'DF raw data'!T$14*1000^2)","v":-25.689933333333329},{"$f":"('DF raw data'!X46-'DF raw data'!X$14*1000^2)","v":18.608499999999999},{"$f":"('DF raw data'!Y46-'DF raw data'!Y$14*1000^2)","v":-7.2999333333333283},null,null,null,"10-30",{"$f":"MAX(ABS(MAX(P6:P9)),ABS(MIN(P6:P9)))","v":7.8728000000000007},{"$f":"MAX(ABS(MAX(Q6:Q9)),ABS(MIN(Q6:Q9)))","v":35.715600000000002}]
[{"$f":"'DF raw data'!A47/1000","v":-2E-3},{"$f":"('DF raw data'!D47-'DF raw data'!D$14*1000^2)","v":12.654499999999999},{"$f":"('DF raw data'!E47-'DF raw data'!E$14*1000^2)","v":-22.172933333333333},{"$f":"('DF raw data'!I47-'DF raw data'!I$14*1000^2)","v":11.580499999999999},{"$f":"('DF raw data'!J47-'DF raw data'!J$14*1000^2)","v":-19.993933333333331},{"$f":"('DF raw data'!N47-'DF raw data'!N$14*1000^2)","v":-2.4133},{"$f":"('DF raw data'!O47-'DF raw data'!O$14*1000^2)","v":-23.557933333333331},{"$f":"('DF raw data'!S47-'DF raw data'!S$14*1000^2)","v":4.4329000000000001},{"$f":"('DF raw data'!T47-'DF raw data'!T$14*1000^2)","v":-25.444933333333331},{"$f":"('DF raw data'!X47-'DF raw data'!X$14*1000^2)","v":1.3025599999999999},{"$f":"('DF raw data'!Y47-'DF raw data'!Y$14*1000^2)","v":-3.6339333333333315},null,null,null,"Limits (±):",60,60]
[{"$f":"'DF raw data'!A48/1000","v":0},{"$f":"('DF raw data'!D48-'DF raw data'!D$14*1000^2)","v":2.1535000000000002},{"$f":"('DF raw data'!E48-'DF raw data'!E$14*1000^2)","v":-41.568933333333334},{"$f":"('DF raw data'!I48-'DF raw data'!I$14*1000^2)","v":-2.7937000000000003},{"$f":"('DF raw data'!J48-'DF raw data'!J$14*1000^2)","v":-31.607933333333335},{"$f":"('DF raw data'!N48-'DF raw data'!N$14*1000^2)","v":-3.0091999999999999},{"$f":"('DF raw data'!O48-'DF raw data'!O$14*1000^2)","v":-20.65593333333333},{"$f":"('DF raw data'!S48-'DF raw data'!S$14*1000^2)","v":8.1560000000000006},{"$f":"('DF raw data'!T48-'DF raw data'!T$14*1000^2)","v":-18.85393333333333},{"$f":"('DF raw data'!X48-'DF raw data'!X$14*1000^2)","v":3.0749999999999944E-2},{"$f":"('DF raw data'!Y48-'DF raw data'!Y$14*1000^2)","v":-15.436933333333329}]
[{"$f":"'DF raw data'!A49/1000","v":2E-3},{"$f":"('DF raw data'!D49-'DF raw data'!D$14*1000^2)","v":8.8103999999999996},{"$f":"('DF raw data'!E49-'DF raw data'!E$14*1000^2)","v":-43.404933333333332},{"$f":"('DF raw data'!I49-'DF raw data'!I$14*1000^2)","v":4.0059000000000005},{"$f":"('DF raw data'!J49-'DF raw data'!J$14*1000^2)","v":-28.386933333333332},{"$f":"('DF raw data'!N49-'DF raw data'!N$14*1000^2)","v":0.77332000000000001},{"$f":"('DF raw data'!O49-'DF raw data'!O$14*1000^2)","v":-25.813933333333331},{"$f":"('DF raw data'!S49-'DF raw data'!S$14*1000^2)","v":-8.5942000000000007},{"$f":"('DF raw data'!T49-'DF raw data'!T$14*1000^2)","v":-12.656933333333335},{"$f":"('DF raw data'!X49-'DF raw data'!X$14*1000^2)","v":6.7634000000000007},{"$f":"('DF raw data'!Y49-'DF raw data'!Y$14*1000^2)","v":-9.3389333333333298}]
[{"$f":"'DF raw data'!A50/1000","v":4.0000000000000001E-3},{"$f":"('DF raw data'!D50-'DF raw data'!D$14*1000^2)","v":7.4276},{"$f":"('DF raw data'!E50-'DF raw data'!E$14*1000^2)","v":-39.874933333333331},{"$f":"('DF raw data'!I50-'DF raw data'!I$14*1000^2)","v":6.3803000000000001},{"$f":"('DF raw data'!J50-'DF raw data'!J$14*1000^2)","v":-33.050933333333333},{"$f":"('DF raw data'!N50-'DF raw data'!N$14*1000^2)","v":0.19099999999999995},{"$f":"('DF raw data'!O50-'DF raw data'!O$14*1000^2)","v":-25.831933333333332},{"$f":"('DF raw data'!S50-'DF raw data'!S$14*1000^2)","v":-3.0209999999999999},{"$f":"('DF raw data'!T50-'DF raw data'!T$14*1000^2)","v":-19.535933333333332},{"$f":"('DF raw data'!X50-'DF raw data'!X$14*1000^2)","v":0.74825999999999993},{"$f":"('DF raw data'!Y50-'DF raw data'!Y$14*1000^2)","v":2.7650666666666694}]
[{"$f":"'DF raw data'!A51/1000","v":6.0000000000000001E-3},{"$f":"('DF raw data'!D51-'DF raw data'!D$14*1000^2)","v":14.6455},{"$f":"('DF raw data'!E51-'DF raw data'!E$14*1000^2)","v":-39.678933333333333},{"$f":"('DF raw data'!I51-'DF raw data'!I$14*1000^2)","v":3.5869},{"$f":"('DF raw data'!J51-'DF raw data'!J$14*1000^2)","v":-30.309933333333333},{"$f":"('DF raw data'!N51-'DF raw data'!N$14*1000^2)","v":-2.0626000000000002},{"$f":"('DF raw data'!O51-'DF raw data'!O$14*1000^2)","v":-29.763933333333334},{"$f":"('DF raw data'!S51-'DF raw data'!S$14*1000^2)","v":-1.6821000000000002},{"$f":"('DF raw data'!T51-'DF raw data'!T$14*1000^2)","v":-18.551933333333331},{"$f":"('DF raw data'!X51-'DF raw data'!X$14*1000^2)","v":-3.7761999999999998},{"$f":"('DF raw data'!Y51-'DF raw data'!Y$14*1000^2)","v":-3.9149333333333303}]
[{"$f":"'DF raw data'!A52/1000","v":8.0000000000000002E-3},{"$f":"('DF raw data'!D52-'DF raw data'!D$14*1000^2)","v":-3.1821999999999999},{"$f":"('DF raw data'!E52-'DF raw data'!E$14*1000^2)","v":-36.697933333333339},{"$f":"('DF raw data'!I52-'DF raw data'!I$14*1000^2)","v":-3.9842},{"$f":"('DF raw data'!J52-'DF raw data'!J$14*1000^2)","v":-26.441933333333331},{"$f":"('DF raw data'!N52-'DF raw data'!N$14*1000^2)","v":-7.1254999999999997},{"$f":"('DF raw data'!O52-'DF raw data'!O$14*1000^2)","v":-18.008933333333331},{"$f":"('DF raw data'!S52-'DF raw data'!S$14*1000^2)","v":-15.4955},{"$f":"('DF raw data'!T52-'DF raw data'!T$14*1000^2)","v":-11.720933333333335},{"$f":"('DF raw data'!X52-'DF raw data'!X$14*1000^2)","v":8.335799999999999},{"$f":"('DF raw data'!Y52-'DF raw data'!Y$14*1000^2)","v":-1.8969333333333296}]
[{"$f":"'DF raw data'!A53/1000","v":0.01},{"$f":"('DF raw data'!D53-'DF raw data'!D$14*1000^2)","v":-2.4996},{"$f":"('DF raw data'!E53-'DF raw data'!E$14*1000^2)","v":-46.852933333333326},{"$f":"('DF raw data'!I53-'DF raw data'!I$14*1000^2)","v":-9.2937000000000012},{"$f":"('DF raw data'!J53-'DF raw data'!J$14*1000^2)","v":-32.601933333333335},{"$f":"('DF raw data'!N53-'DF raw data'!N$14*1000^2)","v":-7.6700999999999997},{"$f":"('DF raw data'!O53-'DF raw data'!O$14*1000^2)","v":-31.413933333333333},{"$f":"('DF raw data'!S53-'DF raw data'!S$14*1000^2)","v":-8.7606999999999999},{"$f":"('DF raw data'!T53-'DF raw data'!T$14*1000^2)","v":-26.78993333333333},{"$f":"('DF raw data'!X53-'DF raw data'!X$14*1000^2)","v":-9.3900000000000039E-2},{"$f":"('DF raw data'!Y53-'DF raw data'!Y$14*1000^2)","v":-13.154933333333332}]
[]
["DF indice",{"$f":"'DF raw data'!B8","v":22},null,{"$f":"'DF raw data'!G8","v":23},null,{"$f":"'DF raw data'!L8","v":24},null,{"$f":"'DF raw data'!Q8","v":25},null,{"$f":"'DF raw data'!V8","v":26}]
[]
["Average",{"$f":"AVERAGE(B12:B14)","v":7.8728000000000007},{"$f":"AVERAGE(C12:C14)","v":-35.715600000000002},4.2642333333333333,-26.662933333333331,-1.5497266666666665,-23.342599999999994,1.3315666666666666,-18.985266666666664,2.6989033333333339,-9.46993333333333]

{"sheet":"DF raw data","index":2,"n_rows":53,"n_cols":25,"rows_kept":53,"cut":false,"hidden":false,"merged":[]}
["Number of header lines                         ",30,null,null,null,"Number of header lines                         ",30,null,null,null,"Number of header lines                         ",30,null,null,null,"Number of header lines                         ",30,null,null,null,"Number of header lines                         ",30]
["Measured by                             ","Danfysik",null,null,null,"Measured by                             ","Danfysik",null,null,null,"Measured by                             ","Danfysik",null,null,null,"Measured by                             ","Danfysik",null,null,null,"Measured by                             ","Danfysik"]
["Operator                                ","PMHA",null,null,null,"Operator                                ","PMHA",null,null,null,"Operator                                ","PMHA",null,null,null,"Operator                                ","PMHA",null,null,null,"Operator                                ","PMHA"]
["Data-time                               ","16-07-2024, 14:06:52",null,null,null,"Data-time                               ","16-07-2024, 14:28:32",null,null,null,"Data-time                               ","16-07-2024, 14:48:59",null,null,null,"Data-time                               ","16-07-2024, 15:07:53",null,null,null,"Data-time                               ","16-07-2024, 15:27:12"]
["Project                                 ",504313,null,null,null,"Project                                 ",504313,null,null,null,"Project                                 ",504313,null,null,null,"Project                                 ",504313,null,null,null,"Project                                 ",504313]
["Magnet type                             ","Dipole",null,null,null,"Magnet type                             ","Dipole",null,null,null,"Magnet type                             ","Dipole",null,null,null,"Magnet type                             ","Dipole",null,null,null,"Magnet type                             ","Dipole"]
["Magnet nr                               ",2410082,null,null,null,"Magnet nr                               ",2410082,null,null,null,"Magnet nr                               ",2410082,null,null,null,"Magnet nr                               ",2410082,null,null,null,"Magnet nr                               ",2410082]
["Meas. number                            ",22,null,null,null,"Meas. number                            ",23,null,null,null,"Meas. number                            ",24,null,null,null,"Meas. number                            ",25,null,null,null,"Meas. number                            ",26]
["Add. info                               ","Final measurement",null,null,null,"Add. info                               ","Final measurement",null,null,null,"Add. info                               ","Final measurement",null,null,null,"Add. info                               ","Final measurement",null,null,null,"Add. info                               ","Final measurement"]
["Device                                  ","(SWI) STRECHED-WIRE INTEGRAL",null,null,null,"Device                                  ","(SWI) STRECHED-WIRE INTEGRAL",null,null,null,"Device                                  ","(SWI) STRECHED-WIRE INTEGRAL",null,null,null,"Device                                  ","(SWI) STRECHED-WIRE INTEGRAL",null,null,null,"Device                                  ","(SWI) STRECHED-WIRE INTEGRAL"]
["Measurement type                        ","(HSI)  HORIZONTAL SECOND INTEGRAL LINESCAN",null,null,null,"Measurement type                        ","(HSI)  HORIZONTAL SECOND INTEGRAL LINESCAN",null,null,null,"Measurement type                        ","(HSI)  HORIZONTAL SECOND INTEGRAL LINESCAN",null,null,null,"Measurement type                        ","(HSI)  HORIZONTAL SECOND INTEGRAL LINESCAN",null,null,null,"Measurement type                        ","(HSI)  HORIZONTAL SECOND INTEGRAL LINESCAN"]
["PSMODE                                     ","(DUM) Magnet power supply not defined",null,null,null,"PSMODE                                     ","(DUM) Magnet power supply not defined",null,null,null,"PSMODE                                     ","(DUM) Magnet power supply not defined",null,null,null,"PSMODE                                     ","(DUM) Magnet power supply not defined",null,null,null,"PSMODE                                     ","(DUM) Magnet power supply not defined"]
["Bench ID                                ","ID Tower SW",null,null,null,"Bench ID                                ","ID Tower SW",null,null,null,"Bench ID                                ","ID Tower SW",null,null,null,"Bench ID                                ","ID Tower SW",null,null,null,"Bench ID                                ","ID Tower SW"]
["Background X & Y [Tm]                    ",2.4264000000000002E-6,-5.4827999999999998E-5,-3.2949999999999998E-7,-3.2485066666666665E-5,"Background X & Y [Tm]                    ",2.4264000000000002E-6,-5.4827999999999998E-5,-3.2949999999999998E-7,-3.2485066666666665E-5,"Background X & Y [Tm]                    ",2.4264000000000002E-6,-5.4827999999999998E-5,-3.2949999999999998E-7,-3.2485066666666665E-5,"Background X & Y [Tm]                    ",2.4264000000000002E-6,-5.4827999999999998E-5,-3.2949999999999998E-7,-3.2485066666666665E-5,"Background X & Y [Tm]                    ",2.4264000000000002E-6,-5.4827999999999998E-5,-3.2949999999999998E-7,-3.2485066666666665E-5]
["Background date                          ","15-07-2024, 11:00:21",null,null,null,"Background date                          ","15-07-2024, 11:00:21",null,null,null,"Background date                          ","15-07-2024, 11:00:21",null,null,null,"Background date                          ","15-07-2024, 11:00:21",null,null,null,"Background date                          ","15-07-2024, 11:00:21"]
["DATA                                      ","Raw data text file ",null,null,null,"DATA                                      ","Raw data text file ",null,null,null,"DATA                                      ","Raw data text file ",null,null,null,"DATA                                      ","Raw data text file ",null,null,null,"DATA                                      ","Raw data text file "]
["Number of repetitions                   ",8,null,null,null,"Number of repetitions                   ",8,null,null,null,"Number of repetitions                   ",8,null,null,null,"Number of repetitions                   ",8,null,null,null,"Number of repetitions                   ",8]
["Number of scans                         ",1,null,null,null,"Number of scans                         ",1,null,null,null,"Number of scans                         ",1,null,null,null,"Number of scans                         ",1,null,null,null,"Number of scans                         ",1]
["Number of data points                   ",11,null,null,null,"Number of data points                   ",11,null,null,null,"Number of data points                   ",11,null,null,null,"Number of data points                   ",11,null,null,null,"Number of data points                   ",11]
["Fraction of max scan speed              ",0.9,null,null,null,"Fraction of max scan speed              ",0.9,null,null,null,"Fraction of max scan speed              ",0.9,null,null,null,"Fraction of max scan speed              ",0.9,null,null,null,"Fraction of max scan speed              ",0.9]
["Start position [mm]                     ",-10,null,null,null,"Start position [mm]                     ",-10,null,null,null,"Start position [mm]                     ",-10,null,null,null,"Start position [mm]                     ",-10,null,null,null,"Start position [mm]                     ",-10]
["End position [mm]                       ",10,null,null,null,"End position [mm]                       ",10,null,null,null,"End position [mm]                       ",10,null,null,null,"End position [mm]                       ",10,null,null,null,"End position [mm]                       ",10]
["Scan center [mm]                        ",74.349999999999994,null,null,null,"Scan center [mm]                        ",74.349999999999994,null,null,null,"Scan center [mm]                        ",74.349999999999994,null,null,null,"Scan center [mm]                        ",74.349999999999994,null,null,null,"Scan center [mm]                        ",74.349999999999994]
["Transvers X/Y [mm]                      ",-189.5,null,null,null,"Transvers X/Y [mm]                      ",-189.5,null,null,null,"Transvers X/Y [mm]                      ",-189.5,null,null,null,"Transvers X/Y [mm]                      ",-189.5,null,null,null,"Transvers X/Y [mm]                      ",-189.5]
["Measurement length [mm]                 ",6,null,null,null,"Measurement length [mm]                 ",6,null,null,null,"Measurement length [mm]                 ",6,null,null,null,"Measurement length [mm]                 ",6,null,null,null,"Measurement length [mm]                 ",6]
["Wire length [mm]                        ",1360,null,null,null,"Wire length [mm]                        ",1360,null,null,null,"Wire length [mm]                        ",1360,null,null,null,"Wire length [mm]                        ",1360,null,null,null,"Wire length [mm]                        ",1360]
["Nanovoltmeter range [V]                 ",0.01,null,null,null,"Nanovoltmeter range [V]                 ",0.01,null,null,null,"Nanovoltmeter range [V]                 ",0.01,null,null,null,"Nanovoltmeter range [V]                 ",0.01,null,null,null,"Nanovoltmeter range [V]                 ",0.01]
["PS-Gap [mm]                             ",10,null,null,null,"PS-Gap [mm]                             ",15,null,null,null,"PS-Gap [mm]                             ",20,null,null,null,"PS-Gap [mm]                             ",30,null,null,null,"PS-Gap [mm]                             ",100]
["PS-Temperature [C]                      ",23.8,null,null,null,"PS-Temperature [C]                      ",23.9,null,null,null,"PS-Temperature [C]                      ",24.1,null,null,null,"PS-Temperature [C]                      ",23.9,null,null,null,"PS-Temperature [C]                      ",23.9]
["PS-Encoder                              ",20.4316,null,null,null,"PS-Encoder                              ",25.4693,null,null,null,"PS-Encoder                              ",30.490300000000001,null,null,null,"PS-Encoder                              ",40.508200000000002,null,null,null,"PS-Encoder                              ",110.52119999999999]
[]
[]
["Monitor-Index","[1,1,4] ",null,null,null,"Monitor-Index","[1,1,4] ",null,null,null,"Monitor-Index","[1,1,4] ",null,null,null,"Monitor-Index","[1,1,4] ",null,null,null,"Monitor-Index","[1,1,4] "]
[]
[" ",null,null,null,null," ",null,null,null,null," ",null,null,null,null," ",null,null,null,null," "]
["Set current [A] ","  Current (DDCT) [A] "," Y [mm]  ",null,null,"Set current [A] ","  Current (DDCT) [A] "," Y [mm]  ",null,null,"Set current [A] ","  Current (DDCT) [A] "," Y [mm]  ",null,null,"Set current [A] ","  Current (DDCT) [A] "," Y [mm]  ",null,null,"Set current [A] ","  Current (DDCT) [A] "," Y [mm]  "]
[0,0,263.85000000000002,null,null,0,0,263.85000000000002,null,null,0,0,263.85000000000002,null,null,0,0,263.85000000000002,null,null,0,0,263.85000000000002]
[]
["Measurement-Index","[1,1,11,2] ",null,null,null,"Measurement-Index","[1,1,11,2] ",null,null,null,"Measurement-Index","[1,1,11,2] ",null,null,null,"Measurement-Index","[1,1,11,2] ",null,null,null,"Measurement-Index","[1,1,11,2] "]
[]
["X [mm] "," Field integral Ix [Tmm] "," Field integral Iy [Tmm] "," 2. Field integral Vx [Tmm] "," 2. Field integral Vy [Tmm] ","X [mm] "," Field integral Ix [Tmm] "," Field integral Iy [Tmm] "," 2. Field integral Vx [Tmm] "," 2. Field integral Vy [Tmm] ","X [mm] "," Field integral Ix [Tmm] "," Field integral Iy [Tmm] "," 2. Field integral Vx [Tmm] "," 2. Field integral Vy [Tmm] ","X [mm] "," Field integral Ix [Tmm] "," Field integral Iy [Tmm] "," 2. Field integral Vx [Tmm] "," 2. Field integral Vy [Tmm] ","X [mm] "," Field integral Ix [Tmm] "," Field integral Iy [Tmm] "," 2. Field integral Vx [Tmm] "," 2. Field integral Vy [Tmm] "]
["[0, 0, 0, 0]",null,null,null,null,"[0, 0, 0, 0]",null,null,null,null,"[0, 0, 0, 0]",null,null,null,null,"[0, 0, 0, 0]",null,null,null,null,"[0, 0, 0, 0]"]
[-10,4.8085000000000003E-3,-4.6795000000000003E-2,-0.41282000000000002,-43.725999999999999,-10,1.2246E-2,-5.6092999999999997E-2,15.298,-57.326999999999998,-10,1.1041E-2,-6.0554999999999998E-2,8.4886999999999997,-62.911999999999999,-10,1.7741E-2,-6.4515000000000003E-2,23.925999999999998,-62.966999999999999,-10,7.4837999999999997E-3,-5.5376000000000002E-2,9.7196999999999996,-49.704000000000001]
[-8,8.2033999999999996E-3,-4.8369000000000002E-2,-0.62927,-55.337000000000003,-8,7.9159E-3,-5.4553999999999998E-2,10.130000000000001,-52.536999999999999,-8,5.7149999999999996E-3,-5.5709000000000002E-2,4.6369999999999996,-59.045000000000002,-8,5.7971999999999997E-3,-5.8753E-2,4.3400999999999996,-47.781999999999996,-8,4.3134999999999996E-3,-5.2685000000000003E-2,3.0306000000000002,-46.088999999999999]
[-6,1.2611000000000001E-2,-5.3090999999999999E-2,9.9526000000000003,-47.871000000000002,-6,9.6235999999999995E-3,-5.7763000000000002E-2,10.262,-56.628,-6,7.6489000000000001E-3,-5.9508999999999999E-2,6.5919999999999996,-50.835000000000001,-6,8.3146000000000001E-3,-5.8881000000000003E-2,11.763999999999999,-48.701000000000001,-6,1.1920999999999999E-2,-5.6605000000000003E-2,21.643999999999998,-43.915999999999997]
[-4,8.0211999999999992E-3,-5.3733000000000003E-2,10.75,-55.753,-4,5.1599000000000003E-3,-5.8527999999999997E-2,2.2481,-57.905000000000001,-4,6.4241000000000003E-3,-5.5389000000000001E-2,8.9725999999999999,-51.774000000000001,-4,7.1376E-3,-5.9284999999999997E-2,7.7469000000000001,-58.174999999999997,-4,1.1316E-2,-4.9888000000000002E-2,18.279,-39.784999999999997]
[-2,6.3940000000000004E-3,-5.2172999999999997E-2,12.324999999999999,-54.658000000000001,-2,4.0267000000000002E-3,-5.6021000000000001E-2,11.250999999999999,-52.478999999999999,-2,1.1988999999999999E-3,-5.9095000000000002E-2,-2.7427999999999999,-56.042999999999999,-2,2.7839000000000002E-3,-5.7084000000000003E-2,4.1033999999999997,-57.93,-2,5.2341999999999996E-3,-5.0471000000000002E-2,0.97306000000000004,-36.119]
[0,2.7886E-3,-6.3363000000000003E-2,1.8240000000000001,-74.054000000000002,0,1.5188000000000001E-3,-6.1231000000000001E-2,-3.1232000000000002,-64.093000000000004,0,-1.3810999999999999E-3,-5.8139000000000003E-2,-3.3386999999999998,-53.140999999999998,0,1.0317E-3,-5.8278000000000003E-2,7.8265000000000002,-51.338999999999999,0,5.3761E-3,-5.5287000000000003E-2,-0.29875000000000002,-47.921999999999997]
[2,3.3026000000000002E-3,-6.5340999999999996E-2,8.4809000000000001,-75.89,2,2.4542000000000001E-3,-6.1471999999999999E-2,3.6764000000000001,-60.872,2,5.3443000000000002E-4,-5.9672999999999997E-2,0.44381999999999999,-58.298999999999999,2,-3.0753999999999998E-3,-5.8333000000000003E-2,-8.9237000000000002,-45.142000000000003,2,8.2679999999999993E-3,-5.1832999999999997E-2,6.4339000000000004,-41.823999999999998]
[4,4.2620999999999996E-3,-6.8000000000000005E-2,7.0980999999999996,-72.36,4,2.8221000000000001E-3,-6.6354999999999997E-2,6.0507999999999997,-65.536000000000001,4,-1.1111000000000001E-3,-6.2907000000000005E-2,-0.13850000000000001,-58.317,4,6.2828000000000005E-4,-6.0468000000000001E-2,-3.3504999999999998,-52.021000000000001,4,2.7533000000000002E-3,-5.0519000000000001E-2,0.41876000000000002,-29.72]
[6,6.6385000000000003E-3,-6.9278000000000006E-2,14.316000000000001,-72.164000000000001,6,4.0594999999999997E-4,-6.4976000000000006E-2,3.2574000000000001,-62.795000000000002,6,-2.6351999999999999E-3,-6.4121999999999998E-2,-2.3921000000000001,-62.249000000000002,6,2.0181999999999999E-3,-5.6769E-2,-2.0116000000000001,-51.036999999999999,6,-1.7278000000000001E-4,-5.1246E-2,-4.1056999999999997,-36.4]
[8,-3.0698000000000001E-3,-6.9137000000000004E-2,-3.5116999999999998,-69.183000000000007,8,-6.3839999999999999E-3,-6.3852000000000006E-2,-4.3136999999999999,-58.927,8,-6.4742999999999997E-3,-5.9359000000000002E-2,-7.4550000000000001,-50.494,8,-7.0127000000000002E-3,-5.6797E-2,-15.824999999999999,-44.206000000000003,8,5.3011999999999998E-3,-5.1848999999999999E-2,8.0062999999999995,-34.381999999999998]
[10,-8.8845E-3,-7.3596999999999996E-2,-2.8290999999999999,-79.337999999999994,10,-7.5069999999999998E-3,-6.7279000000000005E-2,-9.6232000000000006,-65.087000000000003,10,-8.4107000000000001E-3,-6.5827999999999998E-2,-7.9996,-63.899000000000001,10,-5.6851999999999996E-3,-5.9270999999999997E-2,-9.0901999999999994,-59.274999999999999,10,6.1507999999999997E-3,-5.2906000000000002E-2,-0.4234,-45.64]