{"text_format":"1","workbook":"xlsx","n_sheets":3,"sheets":["RAW 10-22-09","MMF 10-22-09","AEG 10-22-09"],"not_rendered":{"charts":0,"images":0,"macros":1,"external_links":0,"defined_names":0,"comments":0,"pivot_tables":0},"unopened":[],"bounds":{"document_bytes":16777216,"sheet_cells":100000,"rows_first":2000,"rows_last":500,"rows_between":2000,"halvings":0,"cell_chars":16384,"cell_head_chars":4096},"cells_cut":0,"cells_raw":0,"read":"whole","date_system":"1900"}

{"sheet":"RAW 10-22-09","index":0,"n_rows":197,"n_cols":4,"rows_kept":197,"cut":false,"hidden":false,"merged":[]}
["MMF",null,null,"PM Checks"]
[]
["\"X\""]
[]
["Undulator","SN 15"]
["Date:","2009-10-22"]
["Crew:","JM, LG"]
[]
["BUCK IN "]
["Far Value",0,"PM1 X1"]
["Near Value",0,"PM 4 X1"]
["1st Far",24.838999999999999]
["1st. Near",24.84]
["2nd. Far",24.84]
["2nd Near",24.84]
["Far Should Read",{"$f":"BuckIn(B10,B11,B12,B13,B14,B15)","v":24.84}]
["Near Should Read",24.84]
["LOS",24.84]
[]
["Undulator "]
[]
[]
["1)","2)","3)","4)"]
[29.329000000000001,29.335000000000001,29.326000000000001,29.323]
[1,1,1,1]
[{"$f":"SUM(A24:A25)","v":30.329000000000001},{"$f":"SUM(B24:B25)","v":30.335000000000001},{"$f":"SUM(C24:C25)","v":30.326000000000001},{"$f":"SUM(D24:D25)","v":30.323}]
[{"$f":"B18","v":24.84},{"$f":"B18","v":24.84},{"$f":"B18","v":24.84},{"$f":"B18","v":24.84}]
[{"$f":"SUM(A27-A26)","v":-5.4890000000000008},{"$f":"SUM(B27-B26)","v":-5.495000000000001},{"$f":"SUM(C27-C26)","v":-5.4860000000000007},{"$f":"SUM(D27-D26)","v":-5.4830000000000005}]
[]
["5)","6)","7)","8)"]
[19.542999999999999,19.538,19.544,19.547000000000001]
[1,1,1,1]
[{"$f":"SUM(A31:A32)","v":20.542999999999999},{"$f":"SUM(B31:B32)","v":20.538},{"$f":"SUM(C31:C32)","v":20.544},{"$f":"SUM(D31:D32)","v":20.547000000000001}]
[{"$f":"B18","v":24.84},{"$f":"B18","v":24.84},{"$f":"B18","v":24.84},{"$f":"B18","v":24.84}]
[{"$f":"SUM(A34-A33)","v":4.2970000000000006},{"$f":"SUM(B34-B33)","v":4.3019999999999996},{"$f":"SUM(C34-C33)","v":4.2959999999999994},{"$f":"SUM(D34-D33)","v":4.2929999999999993}]
[]
[]
[null,"Reference","Block"]
[]
["A)","B)","C)","D)"]
[30.876000000000001,26.343,24.584,24.584]
[1,1,1,1]
[{"$f":"SUM(A41:A42)","v":31.876000000000001},{"$f":"SUM(B41:B42)","v":27.343},{"$f":"SUM(C41:C42)","v":25.584},{"$f":"SUM(D41:D42)","v":25.584}]
[{"$f":"B18","v":24.84},{"$f":"B18","v":24.84},{"$f":"B18","v":24.84},{"$f":"B18","v":24.84}]
[{"$f":"SUM(A44-A43)","v":-7.0360000000000014},{"$f":"SUM(B44-B43)","v":-2.5030000000000001},{"$f":"SUM(C44-C43)","v":-0.74399999999999977},{"$f":"SUM(D44-D43)","v":-0.74399999999999977}]
[]
[]
[]
[]
[]
["MMF",null,null,"PM Checks"]
[]
["\"X\""]
[]
[{"$f":"B18","v":24.84},"LOS"]
["Undulator",{"$f":"B5","v":"SN 15"}]
["Date:",{"$f":"B6","v":"2009-10-22"}]
["Crew:",{"$f":"B7","v":"JM, LG"}]
[]
[]
[null,"PM4"]
[]
["X1) Buck In","Y1)","Y2)"]
[null,27.44,27.443000000000001]
[null,1,1]
[null,{"$f":"SUM(B64:B65)","v":28.44},{"$f":"SUM(C64:C65)","v":28.443000000000001}]
[null,{"$f":"B18","v":24.84},{"$f":"B18","v":24.84}]
[0,{"$f":"SUM(B67-B66)","v":-3.6000000000000014},{"$f":"SUM(C67-C66)","v":-3.6030000000000015}]
[]
[]
[null,"PM3"]
[]
["X1)","Y1)","Y2)"]
[25.716999999999999,29.312000000000001,29.312999999999999]
[1,1,1]
[{"$f":"SUM(A74:A75)","v":26.716999999999999},{"$f":"SUM(B74:B75)","v":30.312000000000001},{"$f":"SUM(C74:C75)","v":30.312999999999999}]
[{"$f":"B18","v":24.84},{"$f":"B18","v":24.84},{"$f":"B18","v":24.84}]
[{"$f":"SUM(A77-A76)","v":-1.8769999999999989},{"$f":"SUM(B77-B76)","v":-5.4720000000000013},{"$f":"SUM(C77-C76)","v":-5.472999999999999}]
[]
[]
[null,"PM 2"]
["X1)","Y1)","Y2)"]
[25.722000000000001,29.318999999999999,29.321999999999999]
[1,1,1]
[{"$f":"SUM(A83:A84)","v":26.722000000000001},{"$f":"SUM(B83:B84)","v":30.318999999999999},{"$f":"SUM(C83:C84)","v":30.321999999999999}]
[{"$f":"B18","v":24.84},{"$f":"B18","v":24.84},{"$f":"B18","v":24.84}]
[{"$f":"SUM(A86-A85)","v":-1.8820000000000014},{"$f":"SUM(B86-B85)","v":-5.4789999999999992},{"$f":"SUM(C86-C85)","v":-5.4819999999999993}]
[]
[]
[null,"PM1"]
["X1) Buck In","Y1)","Y2)"]
[null,27.437999999999999,27.437999999999999]
[null,1,1]
[null,{"$f":"SUM(B92:B93)","v":28.437999999999999},{"$f":"SUM(C92:C93)","v":28.437999999999999}]
[null,{"$f":"B18","v":24.84},{"$f":"B18","v":24.84}]
[0,{"$f":"SUM(B95-B94)","v":-3.597999999999999},{"$f":"SUM(C95-C94)","v":-3.597999999999999}]
[]
[]
[]
[]
["MMF",null,null,"PM Checks"]
[]
["\"Y\"",null,"PM4Y1","PM1Y1"]
[null,null,9.4469999999999992,9.4510000000000005]
[null,null,1,1]
["Undulator",{"$f":"B5","v":"SN 15"},{"$f":"SUM(C104+C105)","v":10.446999999999999},{"$f":"SUM(D104+D105)","v":10.451000000000001}]
["Date:",{"$f":"B6","v":"2009-10-22"}]
["Crew:",{"$f":"B7","v":"JM, LG"}]
[null,null,"HI =",{"$f":"AVERAGE(C106,D106)","v":10.449}]
[]
["PM4",null,"PM3"]
[]
["Y1)","X1)","Y2)","X1"]
[{"$f":"C104","v":9.4469999999999992},13.053000000000001,9.4540000000000006,13.055]
[1,1,1,1]
[{"$f":"SUM(A114:A115)","v":10.446999999999999},{"$f":"SUM(B114:B115)","v":14.053000000000001},{"$f":"SUM(C114:C115)","v":10.454000000000001},{"$f":"SUM(D114:D115)","v":14.055}]
[{"$f":"D109","v":10.449},{"$f":"D109","v":10.449},{"$f":"D109","v":10.449},{"$f":"D109","v":10.449}]
[{"$f":"SUM(A117-A116)","v":2.0000000000006679E-3},{"$f":"SUM(B117-B116)","v":-3.604000000000001},{"$f":"SUM(C117-C116)","v":-5.0000000000007816E-3},{"$f":"SUM(D117-D116)","v":-3.6059999999999999}]
[]
[]
["PM2",null,"PM1"]
[]
["Y1)","X1)","Y1)","X1)"]
[9.4589999999999996,13.058999999999999,{"$f":"D104","v":9.4510000000000005},13.054]
[1,1,1,1]
[{"$f":"SUM(A124:A125)","v":10.459},{"$f":"SUM(B124:B125)","v":14.058999999999999},{"$f":"SUM(C124:C125)","v":10.451000000000001},{"$f":"SUM(D124:D125)","v":14.054}]
[{"$f":"D109","v":10.449},{"$f":"D109","v":10.449},{"$f":"D109","v":10.449},{"$f":"D109","v":10.449}]
[{"$f":"SUM(A127-A126)","v":-9.9999999999997868E-3},{"$f":"SUM(B127-B126)","v":-3.6099999999999994},{"$f":"SUM(C127-C126)","v":-2.0000000000006679E-3},{"$f":"SUM(D127-D126)","v":-3.6050000000000004}]
[]
[]
[]
[]
[]
[]
["Top Of Gage Block",null,"Probe Location in (X)"]
[]
[14.846,null,-5.4640000000000004,"LOS"]
[{"$f":"D109","v":10.449},null,3.7999999999999999E-2,"Mic To Plus Edge"]
[{"$f":"SUM(A138-A137)","v":-4.3970000000000002},null,{"$f":"SUM(C137+C138)","v":-5.4260000000000002}]
[null,null,-3.9E-2]
[null,null,{"$f":"(C139+C140)","v":-5.4649999999999999},"Probe Location"]
[]
[]
[]
[]
[]
[]
[]
[]
[]
["MMF",null,null,"PM Checks"]
[]
["\"Y\""]
[]
["Undulator",{"$f":"B5","v":"SN 15"}]
["Date:",{"$f":"B6","v":"2009-10-22"}]
["Crew:",{"$f":"B7","v":"JM, LG"}]
[]
[]
["HI =",{"$f":"D109","v":10.449}]
[]
["Undulator"]
[]
["1)","2)","3)","4)"]
[5.9660000000000002,5.97,5.9749999999999996,5.9749999999999996]
[1,1,1,1]
[{"$f":"SUM(A165:A166)","v":6.9660000000000002},{"$f":"SUM(B165:B166)","v":6.97},{"$f":"SUM(C165:C166)","v":6.9749999999999996},{"$f":"SUM(D165:D166)","v":6.9749999999999996}]
[{"$f":"D109","v":10.449},{"$f":"D109","v":10.449},{"$f":"D109","v":10.449},{"$f":"D109","v":10.449}]
[{"$f":"SUM(A168-A167)","v":3.4829999999999997},{"$f":"SUM(B168-B167)","v":3.4790000000000001},{"$f":"SUM(C168-C167)","v":3.4740000000000002},{"$f":"SUM(D168-D167)","v":3.4740000000000002}]
[]
[]
["5)","6)","7)","8)"]
[13.05,13.055,13.057,13.061]
[1,1,1,1]
[{"$f":"SUM(A173+A174)","v":14.05},{"$f":"SUM(B173+B174)","v":14.055},{"$f":"SUM(C173+C174)","v":14.057},{"$f":"SUM(D173+D174)","v":14.061}]
[{"$f":"D109","v":10.449},{"$f":"D109","v":10.449},{"$f":"D109","v":10.449},{"$f":"D109","v":10.449}]
[{"$f":"SUM(A176-A175)","v":-3.6010000000000009},{"$f":"SUM(B176-B175)","v":-3.6059999999999999},{"$f":"SUM(C176-C175)","v":-3.6080000000000005},{"$f":"SUM(D176-D175)","v":-3.6120000000000001}]
[]
[]
[]
["Reference Block"]
[]
["A)","B)","C)","D)"]
[9.6869999999999994,null,11.933999999999999,14.914]
[1,null,1,1]
[{"$f":"SUM(A184+A185)","v":10.686999999999999},null,{"$f":"SUM(C184+C185)","v":12.933999999999999},{"$f":"SUM(D184+D185)","v":15.914}]
[{"$f":"D109","v":10.449},null,{"$f":"D109","v":10.449},{"$f":"D109","v":10.449}]
[{"$f":"SUM(A187-A186)","v":-0.23799999999999955},0,{"$f":"SUM(C187-C186)","v":-2.4849999999999994},{"$f":"SUM(D187-D186)","v":-5.4649999999999999}]
[]
[]
["Flats"]
[]
["U/S",null,"D/S"]
["(+)","(-)","(+)","(-)"]
[8.7360000000000007,8.7370000000000001,8.7390000000000008,8.7390000000000008]
[{"$f":"D109","v":10.449},{"$f":"D109","v":10.449},{"$f":"D109","v":10.449},{"$f":"D109","v":10.449}]
[{"$f":"SUM(A196-A195)","v":1.7129999999999992},{"$f":"SUM(B196-B195)","v":1.7119999999999997},{"$f":"SUM(C196-C195)","v":1.7099999999999991},{"$f":"SUM(D196-D195)","v":1.7099999999999991}]

{"sheet":"MMF 10-22-09","index":1,"n_rows":42,"n_cols":8,"rows_kept":42,"cut":false,"hidden":false,"merged":[]}
[]
["Undulator"," ",{"$f":"'RAW 10-22-09'!B5","v":"SN 15"}]
["Date"," ",{"$f":"'RAW 10-22-09'!B6","v":"2009-10-22"}]
["Crew"," ",{"$f":"'RAW 10-22-09'!B7","v":"JM, LG"}]
[]
[]
["Undulator Values"]
[]
["TB","Y (in)","Y (mm)",null,null,"TB","X (in)","X (mm)"]
[1,{"$f":"'RAW 10-22-09'!A169","v":3.4829999999999997},{"$f":"B10*25.4","v":88.468199999999982},null,null,5,{"$f":"'RAW 10-22-09'!A35","v":4.2970000000000006},{"$f":"G10*25.4","v":109.14380000000001}]
[2,{"$f":"'RAW 10-22-09'!B169","v":3.4790000000000001},{"$f":"B11*25.4","v":88.366599999999991},null,null,6,{"$f":"'RAW 10-22-09'!B35","v":4.3019999999999996},{"$f":"G11*25.4","v":109.27079999999998}]
[3,{"$f":"'RAW 10-22-09'!C169","v":3.4740000000000002},{"$f":"B12*25.4","v":88.239599999999996},null,null,7,{"$f":"'RAW 10-22-09'!C35","v":4.2959999999999994},{"$f":"G12*25.4","v":109.11839999999998}]
[4,{"$f":"'RAW 10-22-09'!D169","v":3.4740000000000002},{"$f":"B13*25.4","v":88.239599999999996},null,null,8,{"$f":"'RAW 10-22-09'!D35","v":4.2929999999999993},{"$f":"G13*25.4","v":109.04219999999998}]
[]
[]
["PM Values"]
[]
[null,null,"Upstream"," ","(PM 3)",null,"Checks"]
["TB","X (in)","Y (in)","X (mm)","Y (mm)",null,"X (mm)","Y (mm)"]
["Y2",{"$f":"'RAW 10-22-09'!C78","v":-5.472999999999999},{"$f":"'RAW 10-22-09'!C118","v":-5.0000000000007816E-3},{"$f":"B20*25.4","v":-139.01419999999996},{"$f":"C20*25.4","v":-0.12700000000001985},null,{"$f":"H10-D21","v":156.81959999999998},{"$f":"C10-E20","v":88.595200000000006}]
["X1",{"$f":"'RAW 10-22-09'!A78","v":-1.8769999999999989},{"$f":"'RAW 10-22-09'!D118","v":-3.6059999999999999},{"$f":"B21*25.4","v":-47.675799999999967},{"$f":"C21*25.4","v":-91.592399999999998}]
["Y1",{"$f":"'RAW 10-22-09'!B78","v":-5.4720000000000013},null,{"$f":"B22*25.4","v":-138.98880000000003}]
[]
[null,null,"Downstream",null,"(PM 2)"," ","Checks"]
["TB","X (in)","Y (in)","X (mm)","Y (mm)",null,"X (mm)","Y (mm)"]
["Y1",{"$f":"'RAW 10-22-09'!B87","v":-5.4789999999999992},{"$f":"'RAW 10-22-09'!A128","v":-9.9999999999997868E-3},{"$f":"B26*25.4","v":-139.16659999999996},{"$f":"C26*25.4","v":-0.25399999999999456},null,{"$f":"H13-D27","v":156.84500000000003},{"$f":"C13-E26","v":88.493599999999986}]
["X1",{"$f":"'RAW 10-22-09'!A87","v":-1.8820000000000014},{"$f":"'RAW 10-22-09'!B128","v":-3.6099999999999994},{"$f":"B27*25.4","v":-47.802800000000033},{"$f":"C27*25.4","v":-91.693999999999974}]
["Y2",{"$f":"'RAW 10-22-09'!C87","v":-5.4819999999999993},"\\",{"$f":"B28*25.4","v":-139.24279999999999}]
[]
[]
[]
[]
[null,"Probe",null,null,null,"Flats"]
[]
[null,"X (in)","X (mm)",null," ","Y(in)","Y(mm)"]
[null,{"$f":"'RAW 10-22-09'!C141","v":-5.4649999999999999},{"$f":"B36*25.4","v":-138.81099999999998},null,"US  +",{"$f":"'RAW 10-22-09'!A197","v":1.7129999999999992},{"$f":"F36*25.4","v":43.510199999999976}]
[null," ",null,null,"US   -",{"$f":"'RAW 10-22-09'!B197","v":1.7119999999999997},{"$f":"F37*25.4","v":43.484799999999993}]
[null,null,null,null,"DS  +",{"$f":"'RAW 10-22-09'!C197","v":1.7099999999999991},{"$f":"F38*25.4","v":43.433999999999976}]
[null,null,"Top of Gage Block",null,"DS   -",{"$f":"'RAW 10-22-09'!D197","v":1.7099999999999991},{"$f":"F39*25.4","v":43.433999999999976}]
[]
[null,"Y (in)","Y (mm)"]
[null,{"$f":"'RAW 10-22-09'!A139","v":-4.3970000000000002},{"$f":"B42*25.4","v":-111.68380000000001}]

{"sheet":"AEG 10-22-09","index":2,"n_rows":52,"n_cols":9,"rows_kept":52,"cut":false,"hidden":false,"merged":[]}
[]
["Undulator"," ",{"$f":"'RAW 10-22-09'!B5","v":"SN 15"}]
["Date"," ",{"$f":"'RAW 10-22-09'!B6","v":"2009-10-22"}]
["Crew"," ",{"$f":"'RAW 10-22-09'!B7","v":"JM, LG"}]
[]
[]
[null,null,"Undulator Values"]
[]
["TB","X (in)","Y (in)","X (mm)","Y (mm)",null,"Probe"]
[1,{"$f":"'RAW 10-22-09'!A28","v":-5.4890000000000008},{"$f":"'RAW 10-22-09'!A169","v":3.4829999999999997},{"$f":"SUM(B10*25.4)","v":-139.42060000000001},{"$f":"SUM(D10*25.4)","v":-3541.2832400000002}]
[2,{"$f":"'RAW 10-22-09'!B28","v":-5.495000000000001},{"$f":"'RAW 10-22-09'!B169","v":3.4790000000000001},{"$f":"SUM(B11*25.4)","v":-139.57300000000001},{"$f":"SUM(D11*25.4)","v":-3545.1541999999999},null,"X (in)","X (mm)"]
[3,{"$f":"'RAW 10-22-09'!C28","v":-5.4860000000000007},{"$f":"'RAW 10-22-09'!C169","v":3.4740000000000002},-139.34440000000001,-3539.3477600000001,null,{"$f":"'RAW 10-22-09'!C141","v":-5.4649999999999999},{"$f":"SUM(G12*25.4)","v":-138.81099999999998}]
[4,{"$f":"'RAW 10-22-09'!D28","v":-5.4830000000000005},{"$f":"'RAW 10-22-09'!D169","v":3.4740000000000002},-139.26820000000001,-3537.41228]
[5,{"$f":"'RAW 10-22-09'!A35","v":4.2970000000000006},{"$f":"'RAW 10-22-09'!A177","v":-3.6010000000000009},109.14380000000001,2772.25252]
[6,{"$f":"'RAW 10-22-09'!B35","v":4.3019999999999996},{"$f":"'RAW 10-22-09'!B177","v":-3.6059999999999999},109.27079999999998,2775.4783199999993,null,"Top of Gage Block"]
[7,{"$f":"'RAW 10-22-09'!C35","v":4.2959999999999994},{"$f":"'RAW 10-22-09'!C177","v":-3.6080000000000005},109.11839999999998,2771.6073599999995]
[8,{"$f":"'RAW 10-22-09'!D35","v":4.2929999999999993},{"$f":"'RAW 10-22-09'!D177","v":-3.6120000000000001},109.04219999999998,2769.6718799999994,null,"Y (in)","Y (mm)"]
[null,null,null,null,null,null,{"$f":"'RAW 10-22-09'!A139","v":-4.3970000000000002},{"$f":"SUM(G18*25.4)","v":-111.68380000000001}]
[null,null,"Undulator PM Values"]
[]
[null,null,"Upstream"," ","(PM 3)"]
["TB","X (in)","Y (in)","X (mm)","Y (mm)",null,"Flats"]
["Y2",{"$f":"'RAW 10-22-09'!A78","v":-1.8769999999999989},{"$f":"'RAW 10-22-09'!C118","v":-5.0000000000007816E-3},{"$f":"SUM(B23*25.4)","v":-47.675799999999967},{"$f":"SUM(C23*25.4)","v":-0.12700000000001985}]
["X1",{"$f":"'RAW 10-22-09'!A78","v":-1.8769999999999989},{"$f":"'RAW 10-22-09'!D118","v":-3.6059999999999999},{"$f":"SUM(B24*25.4)","v":-47.675799999999967},{"$f":"SUM(C24*25.4)","v":-91.592399999999998},null," ","Y(in)","Y(mm)"]
["Y1",{"$f":"'RAW 10-22-09'!B78","v":-5.4720000000000013},null,{"$f":"SUM(B25*25.4)","v":-138.98880000000003},null,null,"US  +",{"$f":"'RAW 10-22-09'!A197","v":1.7129999999999992},{"$f":"SUM(H25*25.4)","v":43.510199999999976}]
[null,null,null,null,null,null,"US   -",{"$f":"'RAW 10-22-09'!B197","v":1.7119999999999997},{"$f":"SUM(H26*25.4)","v":43.484799999999993}]
[null,null,"Downstream",null,"(PM 2)",null,"DS  +",{"$f":"'RAW 10-22-09'!C197","v":1.7099999999999991},{"$f":"SUM(H27*25.4)","v":43.433999999999976}]
["TB","X (in)","Y (in)","X (mm)","Y (mm)",null,"DS   -",{"$f":"'RAW 10-22-09'!D197","v":1.7099999999999991},{"$f":"SUM(H28*25.4)","v":43.433999999999976}]
["Y1",{"$f":"'RAW 10-22-09'!B87","v":-5.4789999999999992},{"$f":"'RAW 10-22-09'!A128","v":-9.9999999999997868E-3},{"$f":"SUM(B29*25.4)","v":-139.16659999999996},{"$f":"SUM(C29*25.4)","v":-0.25399999999999456}]
["X1",{"$f":"'RAW 10-22-09'!A87","v":-1.8820000000000014},{"$f":"'RAW 10-22-09'!B128","v":-3.6099999999999994},{"$f":"SUM(B30*25.4)","v":-47.802800000000033},{"$f":"SUM(C30*25.4)","v":-91.693999999999974}]
["Y2",{"$f":"'RAW 10-22-09'!C87","v":-5.4819999999999993},null,{"$f":"SUM(B31*25.4)","v":-139.24279999999999}]
[]
[null,null,"Ref. PM Values"]
[]
[null,null,"Upstream"," ","(PM 4)"]
["TB","X (in)","Y (in)","X (mm)","Y (mm)"]
["Y1",{"$f":"'RAW 10-22-09'!B68","v":-3.6000000000000014},{"$f":"'RAW 10-22-09'!A118","v":2.0000000000006679E-3},{"$f":"SUM(B37*25.4)","v":-91.440000000000026},{"$f":"SUM(C37*25.4)","v":5.0800000000016964E-2},null,null," "," "]
["X1",0,{"$f":"'RAW 10-22-09'!B118","v":-3.604000000000001},0,{"$f":"SUM(C38*25.4)","v":-91.541600000000017}]
["Y2",{"$f":"'RAW 10-22-09'!C68","v":-3.6030000000000015},null,{"$f":"SUM(B39*25.4)","v":-91.51620000000004}]
[]
[null,null,"Downstream",null,"(PM 1)"]
["TB","X (in)","Y (in)","X (mm)","Y (mm)"]
["Y1",{"$f":"'RAW 10-22-09'!B96","v":-3.597999999999999},{"$f":"'RAW 10-22-09'!C128","v":-2.0000000000006679E-3},{"$f":"SUM(B43*25.4)","v":-91.389199999999974},{"$f":"SUM(C43*25.4)","v":-5.0800000000016964E-2}]
["X1",0,{"$f":"'RAW 10-22-09'!D128","v":-3.6050000000000004},0,{"$f":"SUM(C44*25.4)","v":-91.567000000000007}]
["Y2",{"$f":"'RAW 10-22-09'!C96","v":-3.597999999999999},null,{"$f":"SUM(B45*25.4)","v":-91.389199999999974}]
[]
[null,null,"Ref. Block"]
["TB","X (in)","Y (in)","X (mm)","Y (mm)"]
["A",{"$f":"'RAW 10-22-09'!A45","v":-7.0360000000000014},{"$f":"'RAW 10-22-09'!A188","v":-0.23799999999999955},{"$f":"SUM(B49*25.4)","v":-178.71440000000001},{"$f":"SUM(C49*25.4)","v":-6.0451999999999879}]
["B",{"$f":"'RAW 10-22-09'!B45","v":-2.5030000000000001},null,{"$f":"SUM(B50*25.4)","v":-63.5762}]
["C",{"$f":"'RAW 10-22-09'!C45","v":-0.74399999999999977},{"$f":"'RAW 10-22-09'!C188","v":-2.4849999999999994},{"$f":"SUM(B51*25.4)","v":-18.897599999999994},{"$f":"SUM(C51*25.4)","v":-63.118999999999986}]
["D",{"$f":"'RAW 10-22-09'!D45","v":-0.74399999999999977},{"$f":"'RAW 10-22-09'!D188","v":-5.4649999999999999},{"$f":"SUM(B52*25.4)","v":-18.897599999999994},{"$f":"SUM(C52*25.4)","v":-138.81099999999998}]