{"text_format":"1","workbook":"xlsx","n_sheets":3,"sheets":["RAW","MMF","AEG"],"not_rendered":{"charts":0,"images":0,"macros":1,"external_links":0,"defined_names":0,"comments":0,"pivot_tables":0},"unopened":[],"bounds":{"document_bytes":16777216,"sheet_cells":100000,"rows_first":2000,"rows_last":500,"rows_between":2000,"halvings":0,"cell_chars":16384,"cell_head_chars":4096},"cells_cut":0,"cells_raw":0,"read":"whole","date_system":"1900"}

{"sheet":"RAW","index":0,"n_rows":197,"n_cols":4,"rows_kept":197,"cut":false,"hidden":false,"merged":[]}
["MMF",null,null,"PM Checks"]
[]
["\"X\""]
[]
["Undulator","SN 13"]
["Date:","2009-10-08"]
["Crew:","J.M., L.G."]
[]
["BUCK IN "]
["Far Value",0,"PM1 X1"]
["Near Value",0,"PM 4 X1"]
["1st Far",29.98]
["1st. Near",29.989000000000001]
["2nd. Far",29.989000000000001]
["2nd Near",29.989000000000001]
["Far Should Read",{"$f":"BuckIn(B10,B11,B12,B13,B14,B15)","v":29.989000000000001}]
["Near Should Read",29.989000000000001]
["LOS",29.989000000000001]
[]
["Undulator "]
[]
[]
["1)","2)","3)","4)"]
[34.463000000000001,34.454999999999998,34.454000000000001,34.448]
[1,1,1,1]
[{"$f":"SUM(A24:A25)","v":35.463000000000001},{"$f":"SUM(B24:B25)","v":35.454999999999998},{"$f":"SUM(C24:C25)","v":35.454000000000001},{"$f":"SUM(D24:D25)","v":35.448}]
[{"$f":"B18","v":29.989000000000001},{"$f":"B18","v":29.989000000000001},{"$f":"B18","v":29.989000000000001},{"$f":"B18","v":29.989000000000001}]
[{"$f":"SUM(A27-A26)","v":-5.4740000000000002},{"$f":"SUM(B27-B26)","v":-5.4659999999999975},{"$f":"SUM(C27-C26)","v":-5.4649999999999999},{"$f":"SUM(D27-D26)","v":-5.4589999999999996}]
[]
["5)","6)","7)","8)"]
[24.683,24.678000000000001,24.67,24.663]
[1,1,1,1]
[{"$f":"SUM(A31:A32)","v":25.683},{"$f":"SUM(B31:B32)","v":25.678000000000001},{"$f":"SUM(C31:C32)","v":25.67},{"$f":"SUM(D31:D32)","v":25.663}]
[{"$f":"B18","v":29.989000000000001},{"$f":"B18","v":29.989000000000001},{"$f":"B18","v":29.989000000000001},{"$f":"B18","v":29.989000000000001}]
[{"$f":"SUM(A34-A33)","v":4.3060000000000009},{"$f":"SUM(B34-B33)","v":4.3109999999999999},{"$f":"SUM(C34-C33)","v":4.3189999999999991},{"$f":"SUM(D34-D33)","v":4.3260000000000005}]
[]
[]
[null,"Reference","Block"]
[]
["A)","B)","C)","D)"]
[36.020000000000003,31.486000000000001,29.728000000000002,29.728999999999999]
[1,1,1,1]
[{"$f":"SUM(A41:A42)","v":37.020000000000003},{"$f":"SUM(B41:B42)","v":32.486000000000004},{"$f":"SUM(C41:C42)","v":30.728000000000002},{"$f":"SUM(D41:D42)","v":30.728999999999999}]
[{"$f":"B18","v":29.989000000000001},{"$f":"B18","v":29.989000000000001},{"$f":"B18","v":29.989000000000001},{"$f":"B18","v":29.989000000000001}]
[{"$f":"SUM(A44-A43)","v":-7.0310000000000024},{"$f":"SUM(B44-B43)","v":-2.4970000000000034},{"$f":"SUM(C44-C43)","v":-0.73900000000000077},{"$f":"SUM(D44-D43)","v":-0.73999999999999844}]
[]
[]
[]
[]
[]
["MMF",null,null,"PM Checks"]
[]
["\"X\""]
[]
[{"$f":"B18","v":29.989000000000001},"LOS"]
["Undulator",{"$f":"B5","v":"SN 13"}]
["Date:",{"$f":"B6","v":"2009-10-08"}]
["Crew:",{"$f":"B7","v":"J.M., L.G."}]
[]
[]
[null,"PM4"]
[]
["X1) Buck In","Y1)","Y2)"]
[null,32.585999999999999,32.591000000000001]
[null,1,1]
[null,{"$f":"SUM(B64:B65)","v":33.585999999999999},{"$f":"SUM(C64:C65)","v":33.591000000000001}]
[null,{"$f":"B18","v":29.989000000000001},{"$f":"B18","v":29.989000000000001}]
[0,{"$f":"SUM(B67-B66)","v":-3.5969999999999978},{"$f":"SUM(C67-C66)","v":-3.6020000000000003}]
[]
[]
[null,"PM3"]
[]
["X1)","Y1)","Y2)"]
[30.866,34.459000000000003,34.462000000000003]
[1,1,1]
[{"$f":"SUM(A74:A75)","v":31.866},{"$f":"SUM(B74:B75)","v":35.459000000000003},{"$f":"SUM(C74:C75)","v":35.462000000000003}]
[{"$f":"B18","v":29.989000000000001},{"$f":"B18","v":29.989000000000001},{"$f":"B18","v":29.989000000000001}]
[{"$f":"SUM(A77-A76)","v":-1.8769999999999989},{"$f":"SUM(B77-B76)","v":-5.4700000000000024},{"$f":"SUM(C77-C76)","v":-5.4730000000000025}]
[]
[]
[null,"PM 2"]
["X1)","Y1)","Y2)"]
[30.84,34.436999999999998,34.44]
[1,1,1]
[{"$f":"SUM(A83:A84)","v":31.84},{"$f":"SUM(B83:B84)","v":35.436999999999998},{"$f":"SUM(C83:C84)","v":35.44}]
[{"$f":"B18","v":29.989000000000001},{"$f":"B18","v":29.989000000000001},{"$f":"B18","v":29.989000000000001}]
[{"$f":"SUM(A86-A85)","v":-1.8509999999999991},{"$f":"SUM(B86-B85)","v":-5.4479999999999968},{"$f":"SUM(C86-C85)","v":-5.450999999999997}]
[]
[]
[null,"PM1"]
["X1) Buck In","Y1)","Y2)"]
[null,32.585000000000001,32.582999999999998]
[null,1,1]
[null,{"$f":"SUM(B92:B93)","v":33.585000000000001},{"$f":"SUM(C92:C93)","v":33.582999999999998}]
[null,{"$f":"B18","v":29.989000000000001},{"$f":"B18","v":29.989000000000001}]
[0,{"$f":"SUM(B95-B94)","v":-3.5960000000000001},{"$f":"SUM(C95-C94)","v":-3.5939999999999976}]
[]
[]
[]
[]
["MMF",null,null,"PM Checks"]
[]
["\"Y\"",null,"PM4Y1","PM1Y1"]
[null,null,9.7569999999999997,9.7569999999999997]
[null,null,1,1]
["Undulator",{"$f":"B5","v":"SN 13"},{"$f":"SUM(C104+C105)","v":10.757},{"$f":"SUM(D104+D105)","v":10.757}]
["Date:",{"$f":"B6","v":"2009-10-08"}]
["Crew:",{"$f":"B7","v":"J.M., L.G."}]
[null,null,"HI =",{"$f":"AVERAGE(C106,D106)","v":10.757}]
[]
["PM4",null,"PM3"]
[]
["Y1)","X1)","Y2)","X1"]
[{"$f":"C104","v":9.7569999999999997},13.363,9.7620000000000005,13.363]
[1,1,1,1]
[{"$f":"SUM(A114:A115)","v":10.757},{"$f":"SUM(B114:B115)","v":14.363},{"$f":"SUM(C114:C115)","v":10.762},{"$f":"SUM(D114:D115)","v":14.363}]
[{"$f":"D109","v":10.757},{"$f":"D109","v":10.757},{"$f":"D109","v":10.757},{"$f":"D109","v":10.757}]
[{"$f":"SUM(A117-A116)","v":0},{"$f":"SUM(B117-B116)","v":-3.6059999999999999},{"$f":"SUM(C117-C116)","v":-5.0000000000007816E-3},{"$f":"SUM(D117-D116)","v":-3.6059999999999999}]
[]
[]
["PM2",null,"PM1"]
[]
["Y1)","X1)","Y1)","X1)"]
[9.7579999999999991,13.36,{"$f":"D104","v":9.7569999999999997},13.361000000000001]
[1,1,1,1]
[{"$f":"SUM(A124:A125)","v":10.757999999999999},{"$f":"SUM(B124:B125)","v":14.36},{"$f":"SUM(C124:C125)","v":10.757},{"$f":"SUM(D124:D125)","v":14.361000000000001}]
[{"$f":"D109","v":10.757},{"$f":"D109","v":10.757},{"$f":"D109","v":10.757},{"$f":"D109","v":10.757}]
[{"$f":"SUM(A127-A126)","v":-9.9999999999944578E-4},{"$f":"SUM(B127-B126)","v":-3.6029999999999998},{"$f":"SUM(C127-C126)","v":0},{"$f":"SUM(D127-D126)","v":-3.604000000000001}]
[]
[]
[]
[]
[]
[]
["Top Of Gage Block",null,"Probe Location in (X)"]
[]
[15.157,null,-5.47,"LOS"]
[{"$f":"D109","v":10.757},null,2.4E-2,"Mic To Plus Edge"]
[{"$f":"SUM(A138-A137)","v":-4.4000000000000004},null,{"$f":"SUM(C137+C138)","v":-5.4459999999999997}]
[null,null,-3.9E-2]
[null,null,{"$f":"(C139+C140)","v":-5.4849999999999994},"Probe Location"]
[]
[]
[]
[]
[]
[]
[]
[]
[]
["MMF",null,null,"PM Checks"]
[]
["\"Y\""]
[]
["Undulator",{"$f":"B5","v":"SN 13"}]
["Date:",{"$f":"B6","v":"2009-10-08"}]
["Crew:",{"$f":"B7","v":"J.M., L.G."}]
[]
[]
["HI =",{"$f":"D109","v":10.757}]
[]
["Undulator"]
[]
["1)","2)","3)","4)"]
[6.27,6.27,6.2750000000000004,6.27]
[1,1,1,1]
[{"$f":"SUM(A165:A166)","v":7.27},{"$f":"SUM(B165:B166)","v":7.27},{"$f":"SUM(C165:C166)","v":7.2750000000000004},{"$f":"SUM(D165:D166)","v":7.27}]
[{"$f":"D109","v":10.757},{"$f":"D109","v":10.757},{"$f":"D109","v":10.757},{"$f":"D109","v":10.757}]
[{"$f":"SUM(A168-A167)","v":3.4870000000000001},{"$f":"SUM(B168-B167)","v":3.4870000000000001},{"$f":"SUM(C168-C167)","v":3.4819999999999993},{"$f":"SUM(D168-D167)","v":3.4870000000000001}]
[]
[]
["5)","6)","7)","8)"]
[13.356999999999999,13.361000000000001,13.358000000000001,13.363]
[1,1,1,1]
[{"$f":"SUM(A173+A174)","v":14.356999999999999},{"$f":"SUM(B173+B174)","v":14.361000000000001},{"$f":"SUM(C173+C174)","v":14.358000000000001},{"$f":"SUM(D173+D174)","v":14.363}]
[{"$f":"D109","v":10.757},{"$f":"D109","v":10.757},{"$f":"D109","v":10.757},{"$f":"D109","v":10.757}]
[{"$f":"SUM(A176-A175)","v":-3.5999999999999996},{"$f":"SUM(B176-B175)","v":-3.604000000000001},{"$f":"SUM(C176-C175)","v":-3.6010000000000009},{"$f":"SUM(D176-D175)","v":-3.6059999999999999}]
[]
[]
[]
["Reference Block"]
[]
["A)","B)","C)","D)"]
[9.9960000000000004,null,12.141999999999999,15.223000000000001]
[1,null,1,1]
[{"$f":"SUM(A184+A185)","v":10.996},null,{"$f":"SUM(C184+C185)","v":13.141999999999999},{"$f":"SUM(D184+D185)","v":16.222999999999999}]
[{"$f":"D109","v":10.757},null,{"$f":"D109","v":10.757},{"$f":"D109","v":10.757}]
[{"$f":"SUM(A187-A186)","v":-0.23900000000000077},0,{"$f":"SUM(C187-C186)","v":-2.3849999999999998},{"$f":"SUM(D187-D186)","v":-5.4659999999999993}]
[]
[]
["Flats"]
[]
["U/S",null,"D/S"]
["(+)","(-)","(+)","(-)"]
[9.0419999999999998,9.0429999999999993,9.0419999999999998,9.0419999999999998]
[{"$f":"D109","v":10.757},{"$f":"D109","v":10.757},{"$f":"D109","v":10.757},{"$f":"D109","v":10.757}]
[{"$f":"SUM(A196-A195)","v":1.7149999999999999},{"$f":"SUM(B196-B195)","v":1.7140000000000004},{"$f":"SUM(C196-C195)","v":1.7149999999999999},{"$f":"SUM(D196-D195)","v":1.7149999999999999}]

{"sheet":"MMF","index":1,"n_rows":42,"n_cols":8,"rows_kept":42,"cut":false,"hidden":false,"merged":[]}
[]
["Undulator"," ",{"$f":"RAW!B5","v":"SN 13"}]
["Date"," ",{"$f":"RAW!B6","v":"2009-10-08"}]
["Crew"," ","J.M.,L.G."]
[null,null,"  "]
[]
["Undulator Values"]
[]
["TB","Y (in)","Y (mm)",null,null,"TB","X (in)","X (mm)"]
[1,{"$f":"RAW!A169","v":3.4870000000000001},{"$f":"B10*25.4","v":88.569800000000001},null,null,5,{"$f":"RAW!A35","v":4.3060000000000009},{"$f":"G10*25.4","v":109.37240000000001}]
[2,{"$f":"RAW!B169","v":3.4870000000000001},{"$f":"B11*25.4","v":88.569800000000001},null,null,6,{"$f":"RAW!B35","v":4.3109999999999999},{"$f":"G11*25.4","v":109.49939999999999}]
[3,{"$f":"RAW!C169","v":3.4819999999999993},{"$f":"B12*25.4","v":88.442799999999977},null,null,7,{"$f":"RAW!C35","v":4.3189999999999991},{"$f":"G12*25.4","v":109.70259999999998}]
[4,{"$f":"RAW!D169","v":3.4870000000000001},{"$f":"B13*25.4","v":88.569800000000001},null,null,8,{"$f":"RAW!D35","v":4.3260000000000005},{"$f":"G13*25.4","v":109.88040000000001}]
[]
[]
["PM Values"]
[]
[null,null,"Upstream"," ","(PM 3)",null,"Checks"]
["TB","X (in)","Y (in)","X (mm)","Y (mm)",null,"X (mm)","Y (mm)"]
["Y2",{"$f":"RAW!C78","v":-5.4730000000000025},{"$f":"RAW!C118","v":-5.0000000000007816E-3},{"$f":"B20*25.4","v":-139.01420000000005},{"$f":"C20*25.4","v":-0.12700000000001985},null,{"$f":"H10-D21","v":157.04819999999998},{"$f":"C10-E20","v":88.696800000000025}]
["X1",{"$f":"RAW!A78","v":-1.8769999999999989},{"$f":"RAW!D118","v":-3.6059999999999999},{"$f":"B21*25.4","v":-47.675799999999967},{"$f":"C21*25.4","v":-91.592399999999998}]
["Y1",{"$f":"RAW!B78","v":-5.4700000000000024},null,{"$f":"B22*25.4","v":-138.93800000000005}]
[]
[null,null,"Downstream",null,"(PM 2)"," ","Checks"]
["TB","X (in)","Y (in)","X (mm)","Y (mm)",null,"X (mm)","Y (mm)"]
["Y1",{"$f":"RAW!B87","v":-5.4479999999999968},{"$f":"RAW!A128","v":-9.9999999999944578E-4},{"$f":"B26*25.4","v":-138.37919999999991},{"$f":"C26*25.4","v":-2.539999999998592E-2},null,{"$f":"H13-D27","v":156.89579999999998},{"$f":"C13-E26","v":88.595199999999991}]
["X1",{"$f":"RAW!A87","v":-1.8509999999999991},{"$f":"RAW!B128","v":-3.6029999999999998},{"$f":"B27*25.4","v":-47.015399999999971},{"$f":"C27*25.4","v":-91.516199999999984}]
["Y2",{"$f":"RAW!C87","v":-5.450999999999997},"\\",{"$f":"B28*25.4","v":-138.45539999999991}]
[]
[]
[]
[]
[null,"Probe",null,null,null,"Flats"]
[]
[null,"X (in)","X (mm)",null," ","Y(in)","Y(mm)"]
[null,{"$f":"RAW!C141","v":-5.4849999999999994},{"$f":"B36*25.4","v":-139.31899999999999},null,"US  +",{"$f":"RAW!A197","v":1.7149999999999999},{"$f":"F36*25.4","v":43.560999999999993}]
[null," ",null,null,"US   -",{"$f":"RAW!B197","v":1.7140000000000004},{"$f":"F37*25.4","v":43.535600000000009}]
[null,null,null,null,"DS  +",{"$f":"RAW!C197","v":1.7149999999999999},{"$f":"F38*25.4","v":43.560999999999993}]
[null,null,"Top of Gage Block",null,"DS   -",{"$f":"RAW!D197","v":1.7149999999999999},{"$f":"F39*25.4","v":43.560999999999993}]
[]
[null,"Y (in)","Y (mm)"]
[null,{"$f":"RAW!A139","v":-4.4000000000000004},{"$f":"B42*25.4","v":-111.76}]

{"sheet":"AEG","index":2,"n_rows":52,"n_cols":9,"rows_kept":52,"cut":false,"hidden":false,"merged":[]}
[]
["Undulator"," ",{"$f":"RAW!B5","v":"SN 13"}]
["Date"," ",{"$f":"RAW!B6","v":"2009-10-08"}]
["Crew"," ",{"$f":"RAW!B7","v":"J.M., L.G."}]
[]
[]
[null,null,"Undulator Values"]
[]
["TB","X (in)","Y (in)","X (mm)","Y (mm)",null,"Probe"]
[1,{"$f":"RAW!A28","v":-5.4740000000000002},{"$f":"RAW!A169","v":3.4870000000000001},{"$f":"SUM(B10*25.4)","v":-139.03960000000001},{"$f":"SUM(D10*25.4)","v":-3531.6058400000002}]
[2,{"$f":"RAW!B28","v":-5.4659999999999975},{"$f":"RAW!B169","v":3.4870000000000001},{"$f":"SUM(B11*25.4)","v":-138.83639999999994},{"$f":"SUM(D11*25.4)","v":-3526.4445599999981},null,"X (in)","X (mm)"]
[3,{"$f":"RAW!C28","v":-5.4649999999999999},{"$f":"RAW!C169","v":3.4819999999999993},-138.81099999999998,-3525.7993999999994,null,{"$f":"RAW!C141","v":-5.4849999999999994},{"$f":"SUM(G12*25.4)","v":-139.31899999999999}]
[4,{"$f":"RAW!D28","v":-5.4589999999999996},{"$f":"RAW!D169","v":3.4870000000000001},-138.65859999999998,-3521.9284399999992]
[5,{"$f":"RAW!A35","v":4.3060000000000009},{"$f":"RAW!A177","v":-3.5999999999999996},109.37240000000001,2778.0589600000003]
[6,{"$f":"RAW!B35","v":4.3109999999999999},{"$f":"RAW!B177","v":-3.604000000000001},109.49939999999999,2781.2847599999996,null,"Top of Gage Block"]
[7,{"$f":"RAW!C35","v":4.3189999999999991},{"$f":"RAW!C177","v":-3.6010000000000009},109.70259999999998,2786.4460399999994]
[8,{"$f":"RAW!D35","v":4.3260000000000005},{"$f":"RAW!D177","v":-3.6059999999999999},109.88040000000001,2790.96216,null,"Y (in)","Y (mm)"]
[null,null,null,null,null,null,{"$f":"RAW!A139","v":-4.4000000000000004},{"$f":"SUM(G18*25.4)","v":-111.76}]
[null,null,"Undulator PM Values"]
[]
[null,null,"Upstream"," ","(PM 3)"]
["TB","X (in)","Y (in)","X (mm)","Y (mm)",null,"Flats"]
["Y2",{"$f":"RAW!A78","v":-1.8769999999999989},{"$f":"RAW!C118","v":-5.0000000000007816E-3},{"$f":"SUM(B23*25.4)","v":-47.675799999999967},{"$f":"SUM(C23*25.4)","v":-0.12700000000001985}]
["X1",{"$f":"RAW!A78","v":-1.8769999999999989},{"$f":"RAW!D118","v":-3.6059999999999999},{"$f":"SUM(B24*25.4)","v":-47.675799999999967},{"$f":"SUM(C24*25.4)","v":-91.592399999999998},null," ","Y(in)","Y(mm)"]
["Y1",{"$f":"RAW!B78","v":-5.4700000000000024},null,{"$f":"SUM(B25*25.4)","v":-138.93800000000005},null,null,"US  +",{"$f":"RAW!A197","v":1.7149999999999999},{"$f":"SUM(H25*25.4)","v":43.560999999999993}]
[null,null,null,null,null,null,"US   -",{"$f":"RAW!B197","v":1.7140000000000004},{"$f":"SUM(H26*25.4)","v":43.535600000000009}]
[null,null,"Downstream",null,"(PM 2)",null,"DS  +",{"$f":"RAW!C197","v":1.7149999999999999},{"$f":"SUM(H27*25.4)","v":43.560999999999993}]
["TB","X (in)","Y (in)","X (mm)","Y (mm)",null,"DS   -",{"$f":"RAW!D197","v":1.7149999999999999},{"$f":"SUM(H28*25.4)","v":43.560999999999993}]
["Y1",{"$f":"RAW!B87","v":-5.4479999999999968},{"$f":"RAW!A128","v":-9.9999999999944578E-4},{"$f":"SUM(B29*25.4)","v":-138.37919999999991},{"$f":"SUM(C29*25.4)","v":-2.539999999998592E-2}]
["X1",{"$f":"RAW!A87","v":-1.8509999999999991},{"$f":"RAW!B128","v":-3.6029999999999998},{"$f":"SUM(B30*25.4)","v":-47.015399999999971},{"$f":"SUM(C30*25.4)","v":-91.516199999999984}]
["Y2",{"$f":"RAW!C87","v":-5.450999999999997},null,{"$f":"SUM(B31*25.4)","v":-138.45539999999991}]
[]
[null,null,"Ref. PM Values"]
[]
[null,null,"Upstream"," ","(PM 4)"]
["TB","X (in)","Y (in)","X (mm)","Y (mm)"]
["Y1",{"$f":"RAW!B68","v":-3.5969999999999978},{"$f":"RAW!A118","v":0},{"$f":"SUM(B37*25.4)","v":-91.363799999999941},{"$f":"SUM(C37*25.4)","v":0},null,null," "," "]
["X1",0,{"$f":"RAW!B118","v":-3.6059999999999999},0,{"$f":"SUM(C38*25.4)","v":-91.592399999999998}]
["Y2",{"$f":"RAW!C68","v":-3.6020000000000003},null,{"$f":"SUM(B39*25.4)","v":-91.490800000000007}]
[]
[null,null,"Downstream",null,"(PM 1)"]
["TB","X (in)","Y (in)","X (mm)","Y (mm)"]
["Y1",{"$f":"RAW!B96","v":-3.5960000000000001},{"$f":"RAW!C128","v":0},{"$f":"SUM(B43*25.4)","v":-91.338399999999993},{"$f":"SUM(C43*25.4)","v":0}]
["X1",0,{"$f":"RAW!D128","v":-3.604000000000001},0,{"$f":"SUM(C44*25.4)","v":-91.541600000000017}]
["Y2",{"$f":"RAW!C96","v":-3.5939999999999976},null,{"$f":"SUM(B45*25.4)","v":-91.287599999999941}]
[]
[null,null,"Ref. Block"]
["TB","X (in)","Y (in)","X (mm)","Y (mm)"]
["A",{"$f":"RAW!A45","v":-7.0310000000000024},{"$f":"RAW!A188","v":-0.23900000000000077},{"$f":"SUM(B49*25.4)","v":-178.58740000000006},{"$f":"SUM(C49*25.4)","v":-6.0706000000000193}]
["B",{"$f":"RAW!B45","v":-2.4970000000000034},null,{"$f":"SUM(B50*25.4)","v":-63.423800000000085}]
["C",{"$f":"RAW!C45","v":-0.73900000000000077},{"$f":"RAW!C188","v":-2.3849999999999998},{"$f":"SUM(B51*25.4)","v":-18.770600000000019},{"$f":"SUM(C51*25.4)","v":-60.578999999999994}]
["D",{"$f":"RAW!D45","v":-0.73999999999999844},{"$f":"RAW!D188","v":-5.4659999999999993},{"$f":"SUM(B52*25.4)","v":-18.79599999999996},{"$f":"SUM(C52*25.4)","v":-138.83639999999997}]